BEGIN:VCALENDAR
VERSION:2.0
PRODID:-//Pasadena Symphony &amp; Pops - ECPv6.15.19//NONSGML v1.0//EN
CALSCALE:GREGORIAN
METHOD:PUBLISH
X-WR-CALNAME:Pasadena Symphony &amp; Pops
X-ORIGINAL-URL:https://pasadenasymphony-pops.org
X-WR-CALDESC:Events for Pasadena Symphony &amp; Pops
REFRESH-INTERVAL;VALUE=DURATION:PT1H
X-Robots-Tag:noindex
X-PUBLISHED-TTL:PT1H
BEGIN:VTIMEZONE
TZID:America/Los_Angeles
BEGIN:DAYLIGHT
TZOFFSETFROM:-0800
TZOFFSETTO:-0700
TZNAME:PDT
DTSTART:20240310T100000
END:DAYLIGHT
BEGIN:STANDARD
TZOFFSETFROM:-0700
TZOFFSETTO:-0800
TZNAME:PST
DTSTART:20241103T090000
END:STANDARD
BEGIN:DAYLIGHT
TZOFFSETFROM:-0800
TZOFFSETTO:-0700
TZNAME:PDT
DTSTART:20250309T100000
END:DAYLIGHT
BEGIN:STANDARD
TZOFFSETFROM:-0700
TZOFFSETTO:-0800
TZNAME:PST
DTSTART:20251102T090000
END:STANDARD
BEGIN:DAYLIGHT
TZOFFSETFROM:-0800
TZOFFSETTO:-0700
TZNAME:PDT
DTSTART:20260308T100000
END:DAYLIGHT
BEGIN:STANDARD
TZOFFSETFROM:-0700
TZOFFSETTO:-0800
TZNAME:PST
DTSTART:20261101T090000
END:STANDARD
END:VTIMEZONE
BEGIN:VEVENT
DTSTART;VALUE=DATE:20250205
DTEND;VALUE=DATE:20250601
DTSTAMP:20260425T095318
CREATED:20250121T214634Z
LAST-MODIFIED:20251021T184738Z
UID:30890-1738713600-1748735999@pasadenasymphony-pops.org
SUMMARY:Wildfire Recovery Effort
DESCRIPTION:[vc_row][vc_column][vc_single_image image=”30895″ img_size=”large” onclick=”custom_link” css=”” link=”https://docs.google.com/forms/d/e/1FAIpQLSdYiDQomxkFaLyuuzjBDd–OeODNH5_pjt788K2iOY2MHAiQw/viewform”][vc_empty_space height=”15″][vc_column_text css=””]We’d like to thank everyone for the outpouring of support for our instrument drive\, which is helping to replenish instruments lost in the Eaton Fires. Many of our Youth Orchestra students lost their instruments in the fire and our partner school\, Elliots Arts Magnet\, which maintained a large instrument library for PUSD\, has also been severely damaged. \nYour donations have already helped a lot of our students get back to playing music. Thank you – your support is truly inspiring! \nWe are still accepting some gently used orchestra instruments\, depending on need\, at our office. Please do not bring instruments in need of major repair. For questions and more details\, please email Kristine Llanderal.  \nWe’re also in the need for music supplies to help students impacted by the fires\, including music stands\, strings\, reeds\, rosin and shoulder rests. \nIf you or anyone you know has lost a musical instrument in the fires\, please email Alex Chu. We’d love to help![/vc_column_text][vc_empty_space height=”15x”][/vc_column][/vc_row][vc_row][vc_column]Ways to Support[vc_empty_space height=”15x”][/vc_column][/vc_row][vc_row][vc_column][vc_column_text css=””]Please click here to donate instruments or music supplies.[/vc_column_text][vc_empty_space height=”15x”][vc_column_text css=””]If you would prefer to provide monetary support for our fire recovery effort\, click here:[/vc_column_text]Donate Now[/vc_column][/vc_row][vc_row][vc_column][vc_empty_space height=”25″][vc_column_text css=””] \n\n\n\n\n\n\n\nHelp our community reconnect and rebuild through music! \n\n\n\n\n\n\n\n\nFollow this page for updates. Last Updated: April 2\, 2025[/vc_column_text][vc_empty_space height=”25″][/vc_column][/vc_row]
URL:https://pasadenasymphony-pops.org/concert/wildfire-recovery-effort/
CATEGORIES:2024/25 Season
ATTACH;FMTTYPE=image/jpeg:https://pasadenasymphony-pops.org/wp-content/uploads/2025/01/instrument-drive-website.jpg
END:VEVENT
END:VCALENDAR