BEGIN:VCALENDAR
VERSION:2.0
PRODID:-//Pasadena Symphony &amp; Pops - ECPv6.15.19//NONSGML v1.0//EN
CALSCALE:GREGORIAN
METHOD:PUBLISH
X-ORIGINAL-URL:https://pasadenasymphony-pops.org
X-WR-CALDESC:Events for Pasadena Symphony &amp; Pops
REFRESH-INTERVAL;VALUE=DURATION:PT1H
X-Robots-Tag:noindex
X-PUBLISHED-TTL:PT1H
BEGIN:VTIMEZONE
TZID:UTC
BEGIN:STANDARD
TZOFFSETFROM:+0000
TZOFFSETTO:+0000
TZNAME:UTC
DTSTART:20250101T000000
END:STANDARD
END:VTIMEZONE
BEGIN:VEVENT
DTSTART;VALUE=DATE:20260321
DTEND;VALUE=DATE:20260322
DTSTAMP:20260423T011359
CREATED:20240401T165942Z
LAST-MODIFIED:20260305T181545Z
UID:31339-1774051200-1774137599@pasadenasymphony-pops.org
SUMMARY:Dvořák New World Symphony
DESCRIPTION:[vc_row][vc_column][vc_row_inner][vc_column_inner width=”1/2″][vc_single_image image=”31276″ img_size=”full” css=””][vc_empty_space height=”20px”][/vc_column_inner][vc_column_inner width=”1/2″]\n	 			\n					\n						\n						Ambassador Auditorium\n						\n					\n				\n			[vc_empty_space height=”15px”][vc_column_text css=””]March 21\, 2026\n2:00pm & 8:00pm[/vc_column_text][vc_column_text css=””]Brett Mitchell\, conductor\nJuan Pablo Contreras\, composer & special guest \nBernstein Three Dance Variations from Fancy Free\nJuan Pablo Contreras Symphony No. 1\n“MyGreat Dream” (co-commission)\nDvořák Symphony No. 9 “From the New World”[/vc_column_text][vc_empty_space height=”15px”]Buy Tickets[vc_empty_space height=”30px”][/vc_column_inner][/vc_row_inner][vc_column_text css=””][/vc_column_text][vc_empty_space height=”20px”][vc_column_text css=””]Be among the first to experience acclaimed composer Juan Pablo Conteras’ first symphony\, capturing his journey to becoming a composer and a US citizen\, and get lost in one of the most popular symphonies of all time – a tribute to the American spirit. [/vc_column_text][vc_row_inner][vc_column_inner width=”1/2″][/vc_column_inner][vc_column_inner width=”1/2″][/vc_column_inner][/vc_row_inner]ArtistsJuan Pablo ContrerasComposer & Special Guest  Brett MitchellMusic Director Video[vc_empty_space height=”10px”]Sponsors[vc_row_inner][vc_column_inner width=”1/2″][vc_column_text css=””] \nIndividual Concert Underwriter:\nThe Executive Committee of the\nPasadena Symphony Association Board of Directors \n[/vc_column_text][/vc_column_inner][vc_column_inner width=”1/2″][vc_column_text css=””] \nInsights Sponsor:\nAlan Fisher\, MD\n& Hear MD \n[/vc_column_text][/vc_column_inner][/vc_row_inner][/vc_column][/vc_row][vc_row][vc_column][vc_empty_space height=”60px”][/vc_column][/vc_row][vc_row][vc_column][/vc_column][/vc_row]
URL:https://pasadenasymphony-pops.org/concert/from-the-new-world/
LOCATION:Ambassador Auditorium\, 131 S St. John Avenue\, Pasadena\, CA\, 91105\, United States
CATEGORIES:2025/26 Season,Symphony Classics
ATTACH;FMTTYPE=image/png:https://pasadenasymphony-pops.org/wp-content/uploads/2024/04/JPB_featured.png
ORGANIZER;CN="Pasadena Symphony":MAILTO:info@pasadenasymphony-pops.org
GEO:34.143377;-118.156512
X-APPLE-STRUCTURED-LOCATION;VALUE=URI;X-ADDRESS=Ambassador Auditorium 131 S St. John Avenue Pasadena CA 91105 United States;X-APPLE-RADIUS=500;X-TITLE=131 S St. John Avenue:geo:-118.156512,34.143377
END:VEVENT
END:VCALENDAR