BEGIN:VCALENDAR
VERSION:2.0
PRODID:-//Pasadena Symphony &amp; Pops - ECPv6.15.19//NONSGML v1.0//EN
CALSCALE:GREGORIAN
METHOD:PUBLISH
X-ORIGINAL-URL:https://pasadenasymphony-pops.org
X-WR-CALDESC:Events for Pasadena Symphony &amp; Pops
REFRESH-INTERVAL;VALUE=DURATION:PT1H
X-Robots-Tag:noindex
X-PUBLISHED-TTL:PT1H
BEGIN:VTIMEZONE
TZID:UTC
BEGIN:STANDARD
TZOFFSETFROM:+0000
TZOFFSETTO:+0000
TZNAME:UTC
DTSTART:20250101T000000
END:STANDARD
END:VTIMEZONE
BEGIN:VEVENT
DTSTART;VALUE=DATE:20260221
DTEND;VALUE=DATE:20260222
DTSTAMP:20260423T022640
CREATED:20240401T165942Z
LAST-MODIFIED:20251112T004113Z
UID:31334-1771632000-1771718399@pasadenasymphony-pops.org
SUMMARY:Tchaikovsky Pathétique
DESCRIPTION:[vc_row][vc_column][vc_row_inner][vc_column_inner width=”1/2″][vc_single_image image=”31278″ img_size=”full” css=””][vc_empty_space height=”20px”][/vc_column_inner][vc_column_inner width=”1/2″]\n	 			\n					\n						\n						Ambassador Auditorium\n						\n					\n				\n			[vc_empty_space height=”15px”][vc_column_text css=””]February 21\, 2026\n2:00pm & 8:00pm[/vc_column_text][vc_column_text css=””]Brett Mitchell\, conductor\nMichelle Cann\, piano \nJeffrey Nytch Beacon\nMozart Piano Concerto No. 23\nTchaikovsky Symphony No. 6 “Pathétique”[/vc_column_text][vc_empty_space height=”15px”]Buy Tickets[vc_empty_space height=”30px”][/vc_column_inner][/vc_row_inner][vc_column_text css=””][/vc_column_text][vc_empty_space height=”20px”][vc_column_text css=””]Delight in the elegance of Mozart’s 23rd Piano Concerto\, shimmering with grace and lyrical beauty at the hands of the electrifying Michelle Cann. Then\, plunge into the emotional depths of Tchaikovsky’s haunting “Pathétique” Symphony for a gripping journey exploring love\, despair and fate. \nJoin us one hour before the performance for Insights – a free pre-concert dialogue with KUSC Host Brian Lauritzen and Music Director Brett Mitchell. Learn about the works being performed and get a behind-the-scenes look at our guest artists and conductor.[/vc_column_text][vc_row_inner][vc_column_inner width=”1/2″][/vc_column_inner][vc_column_inner width=”1/2″][/vc_column_inner][/vc_row_inner]ArtistsJeffrey NytchComposer Michelle CannPiano Brett MitchellMusic Director Video[vc_row_inner][vc_column_inner width=”1/2″][vc_video link=”https://www.youtube.com/watch?v=p_alqHrFJ3w&feature=youtu.be” css=””][/vc_column_inner][/vc_row_inner][vc_empty_space height=”10px”]Sponsors[/vc_column][/vc_row][vc_row][vc_column width=”1/3″][vc_column_text css=””] \nConcert Underwriter: \nMarlene R. Konnar & John D. Baldeschwieler \n[/vc_column_text][/vc_column][vc_column width=”1/3″][vc_column_text css=””] \nInsights Sponsor: \nAlan Fisher\, MD\n& Hear MD \n[/vc_column_text][/vc_column][vc_column width=”1/3″][/vc_column][/vc_row]
URL:https://pasadenasymphony-pops.org/concert/tchaikovsky-pathetique/
LOCATION:Ambassador Auditorium\, 131 S St. John Avenue\, Pasadena\, CA\, 91105\, United States
CATEGORIES:2025/26 Season,Symphony Classics
ATTACH;FMTTYPE=image/png:https://pasadenasymphony-pops.org/wp-content/uploads/2024/04/Michelle-Cann_featured.png
ORGANIZER;CN="Pasadena Symphony":MAILTO:info@pasadenasymphony-pops.org
GEO:34.143377;-118.156512
X-APPLE-STRUCTURED-LOCATION;VALUE=URI;X-ADDRESS=Ambassador Auditorium 131 S St. John Avenue Pasadena CA 91105 United States;X-APPLE-RADIUS=500;X-TITLE=131 S St. John Avenue:geo:-118.156512,34.143377
END:VEVENT
END:VCALENDAR