BEGIN:VCALENDAR
VERSION:2.0
PRODID:-//Pasadena Symphony &amp; Pops - ECPv6.15.19//NONSGML v1.0//EN
CALSCALE:GREGORIAN
METHOD:PUBLISH
X-ORIGINAL-URL:https://pasadenasymphony-pops.org
X-WR-CALDESC:Events for Pasadena Symphony &amp; Pops
REFRESH-INTERVAL;VALUE=DURATION:PT1H
X-Robots-Tag:noindex
X-PUBLISHED-TTL:PT1H
BEGIN:VTIMEZONE
TZID:UTC
BEGIN:STANDARD
TZOFFSETFROM:+0000
TZOFFSETTO:+0000
TZNAME:UTC
DTSTART:20240101T000000
END:STANDARD
END:VTIMEZONE
BEGIN:VEVENT
DTSTART;VALUE=DATE:20250125
DTEND;VALUE=DATE:20250126
DTSTAMP:20260425T210527
CREATED:20230629T165942Z
LAST-MODIFIED:20250118T004123Z
UID:29467-1737763200-1737849599@pasadenasymphony-pops.org
SUMMARY:Mozart “Jupiter” Symphony
DESCRIPTION:[vc_row][vc_column][vc_row_inner][vc_column_inner width=”1/2″][vc_single_image image=”29432″ img_size=”full” css=””][vc_empty_space height=”15px”][/vc_column_inner][vc_column_inner width=”1/2″]\n	 			\n					\n						\n						Ambassador Auditorium\n						\n					\n				\n			[vc_empty_space height=”15px”][vc_column_text css=””]January 25\, 2025\n2:00pm & 8:00pm[/vc_column_text][vc_column_text css=””]Brett Mitchell\, conductor\nInon Barnatan\, piano   \nJessie Montgomery  Starburst\nFlorence Price Concerto for Piano in One Movement  \nMozart Symphony No. 41\, “Jupiter”[/vc_column_text][vc_empty_space height=”15px”]Buy Tickets[vc_empty_space height=”10px”][/vc_column_inner][/vc_row_inner][vc_column_text css=””]A vibrant work by 2024 GRAMMY-winner Jessie Montgomery opens the program with acclaimed pianist Inon Barnatan performing trailblazing composer Florence Price’s Piano Concerto. Plus Mozart’s jubilant final symphony – pure exhilaration! \n  \nThe Pasadena Symphony believes in the healing power of music. We are offering free tickets to all first responders and anyone who has been displaced\, evacuated or experienced loss during the wildfires. Click here to sign up. \n*Tickets available while quantities last.[/vc_column_text][vc_empty_space height=”15px”][vc_row_inner][vc_column_inner width=”1/2″][/vc_column_inner][vc_column_inner width=”1/2″][/vc_column_inner][/vc_row_inner]ArtistsBrett MitchellMusic Director Inon BarnatanPiano Jessie MontgomeryComposer Video[vc_empty_space height=”10px”]Sponsors[vc_row_inner][vc_column_inner width=”1/2″][vc_single_image image=”23690″ img_size=”full” css=””][/vc_column_inner][vc_column_inner width=”1/4″][vc_empty_space height=”15px”][vc_column_text css=””] \nInsights Sponsor: \n[/vc_column_text][vc_single_image image=”17812″ img_size=”medium” css=””][/vc_column_inner][vc_column_inner width=”1/4″][/vc_column_inner][/vc_row_inner][/vc_column][/vc_row][vc_row][vc_column][/vc_column][/vc_row][vc_row][vc_column][/vc_column][/vc_row]
URL:https://pasadenasymphony-pops.org/concert/mozart-jupiter-symphony/
LOCATION:Ambassador Auditorium\, 131 S St. John Avenue\, Pasadena\, CA\, 91105\, United States
CATEGORIES:2024/25 Season,Symphony Classics
ATTACH;FMTTYPE=image/jpeg:https://pasadenasymphony-pops.org/wp-content/uploads/2023/06/Inon-Barnatan-featured.jpg
GEO:34.143377;-118.156512
X-APPLE-STRUCTURED-LOCATION;VALUE=URI;X-ADDRESS=Ambassador Auditorium 131 S St. John Avenue Pasadena CA 91105 United States;X-APPLE-RADIUS=500;X-TITLE=131 S St. John Avenue:geo:-118.156512,34.143377
END:VEVENT
END:VCALENDAR