BEGIN:VCALENDAR
VERSION:2.0
PRODID:-//Pasadena Symphony &amp; Pops - ECPv6.15.19//NONSGML v1.0//EN
CALSCALE:GREGORIAN
METHOD:PUBLISH
X-WR-CALNAME:Pasadena Symphony &amp; Pops
X-ORIGINAL-URL:https://pasadenasymphony-pops.org
X-WR-CALDESC:Events for Pasadena Symphony &amp; Pops
REFRESH-INTERVAL;VALUE=DURATION:PT1H
X-Robots-Tag:noindex
X-PUBLISHED-TTL:PT1H
BEGIN:VTIMEZONE
TZID:UTC
BEGIN:STANDARD
TZOFFSETFROM:+0000
TZOFFSETTO:+0000
TZNAME:UTC
DTSTART:20200101T000000
END:STANDARD
END:VTIMEZONE
BEGIN:VEVENT
DTSTART;VALUE=DATE:20210227
DTEND;VALUE=DATE:20210228
DTSTAMP:20260424T190954
CREATED:20210121T060042Z
LAST-MODIFIED:20210407T041149Z
UID:16053-1614384000-1614470399@pasadenasymphony-pops.org
SUMMARY:Tchaikovsky Violin Concerto
DESCRIPTION:[vc_row][vc_column][vc_row_inner][vc_column_inner width=”1/2″][vc_single_image image=”16186″ img_size=”full”][/vc_column_inner][vc_column_inner width=”1/2″][vc_single_image image=”18052″ img_size=”180×31″][vc_empty_space height=”15px”][vc_column_text]February 27\, 2021[/vc_column_text][vc_column_text]Mendelssohn   Octet for Strings\nTchaikovsky    Violin Concerto[/vc_column_text][vc_empty_space height=”10px”][vc_column_text]Concert premieres at 4:00pm and is available to stream on its broadcast date free to the general public for 48 hours.[/vc_column_text][vc_empty_space height=”15px”][vc_column_text]For unlimited on-demand access and other perks\, become a season member:[/vc_column_text][vc_empty_space height=”5px”]BECOME A MEMBER[/vc_column_inner][/vc_row_inner][vc_empty_space height=”40px”][vc_column_text]The genius of a 16-year-old Mendelssohn is on colorful display with inspiring melodies from eight virtuosic musicians delivering a powerhouse performance in full symphonic orchestral style. Hailed by the New York Times as “a talented instrumentalist\, with the kind of high-gloss tone that pulls sensuously at the listener’s ear\,” violinist Chee-Yun brings the romance with Tchaikovsky’s intensely passionate Violin Concerto.[/vc_column_text][vc_empty_space height=”50px”][vc_column_text][/vc_column_text][vc_row_inner][vc_column_inner width=”1/2″][/vc_column_inner][vc_column_inner width=”1/2″][/vc_column_inner][/vc_row_inner]ArtistsChee-YunViolin Hsin-I HuangPiano Sara ParkinsViolin Irina VoloshinaViolin Aroussiak BaltaianViolin Elizabeth HedmanViolin Trina Carey HodgsonCello Dane LittleCello Aaron OltmanViola Carrie Holzman-LittleViola Video[vc_empty_space height=”15px”][vc_video link=”https://www.youtube.com/watch?v=3rjD62Xc4Eg”][vc_column_text]Chee-Yun plays at the Cerritos Center for the Performing Arts[/vc_column_text]Sponsors[vc_row_inner][vc_column_inner width=”2/3″][/vc_column_inner][vc_column_inner width=”1/3″][vc_single_image image=”17841″ img_size=”medium” alignment=”center”][/vc_column_inner][/vc_row_inner][vc_empty_space height=”30px”][/vc_column][/vc_row][vc_row][vc_column][/vc_column][/vc_row]
URL:https://pasadenasymphony-pops.org/concert/tchaikovsky-violin-concerto/
LOCATION:CA\, United States
CATEGORIES:2020/2021 Season,Pasadena Presents,Spring 2021,Symphony Classics
ATTACH;FMTTYPE=image/jpeg:https://pasadenasymphony-pops.org/wp-content/uploads/2019/02/Chee-yun_event.jpg
END:VEVENT
END:VCALENDAR