BEGIN:VCALENDAR
VERSION:2.0
PRODID:-//Pasadena Symphony &amp; Pops - ECPv6.15.19//NONSGML v1.0//EN
CALSCALE:GREGORIAN
METHOD:PUBLISH
X-WR-CALNAME:Pasadena Symphony &amp; Pops
X-ORIGINAL-URL:https://pasadenasymphony-pops.org
X-WR-CALDESC:Events for Pasadena Symphony &amp; Pops
REFRESH-INTERVAL;VALUE=DURATION:PT1H
X-Robots-Tag:noindex
X-PUBLISHED-TTL:PT1H
BEGIN:VTIMEZONE
TZID:UTC
BEGIN:STANDARD
TZOFFSETFROM:+0000
TZOFFSETTO:+0000
TZNAME:UTC
DTSTART:20180101T000000
END:STANDARD
END:VTIMEZONE
BEGIN:VEVENT
DTSTART;VALUE=DATE:20210109
DTEND;VALUE=DATE:20210110
DTSTAMP:20260425T191858
CREATED:20190218T220042Z
LAST-MODIFIED:20251021T175600Z
UID:14353-1610150400-1610236799@pasadenasymphony-pops.org
SUMMARY:Rachmaninoff Piano Concerto No. 3
DESCRIPTION:[vc_row][vc_column][vc_row_inner][vc_column_inner width=”1/2″][vc_single_image image=”14390″ img_size=”full” alignment=”center”][/vc_column_inner][vc_column_inner width=”1/2″]\n	 			\n					\n						\n						Ambassador Auditorium\n						\n					\n				\n			[vc_empty_space height=”15px”][vc_column_text]January 9\, 2021\n2:00pm & 8:00pm[/vc_column_text][vc_column_text] \nAlexander L. Miller  Fireworks\nRachmaninoff  Piano Concerto No. 3\nMussorgsky  Pictures at an Exhibition \n[/vc_column_text][vc_empty_space height=”30px”]Buy Tickets[/vc_column_inner][/vc_row_inner][vc_empty_space height=”30px”][vc_separator border_width=”3″][vc_empty_space height=”30px”][vc_row_inner][vc_column_inner width=”1/3″][vc_raw_html]JTNDaWZyYW1lJTIwd2lkdGglM0QlMjIzMTYlMjIlMjBoZWlnaHQlM0QlMjI1NDAlMjIlMjBzcmMlM0QlMjJodHRwcyUzQSUyRiUyRnd3dy55b3V0dWJlLmNvbSUyRmVtYmVkJTJGNDF6U3B2VGlXREUlMjIlMjBmcmFtZWJvcmRlciUzRCUyMjAlMjIlMjBhbGxvdyUzRCUyMmFjY2VsZXJvbWV0ZXIlM0IlMjBhdXRvcGxheSUzQiUyMGVuY3J5cHRlZC1tZWRpYSUzQiUyMGd5cm9zY29wZSUzQiUyMHBpY3R1cmUtaW4tcGljdHVyZSUyMiUyMGFsbG93ZnVsbHNjcmVlbiUzRSUzQyUyRmlmcmFtZSUzRQ==[/vc_raw_html][/vc_column_inner][vc_column_inner width=”2/3″][vc_column_text]POSTPONEMENT ANNOUNCEMENT:  \nThe community’s health and well-being is top of mind as we navigate through these uncertain times. We have rescheduled the final two concerts of the symphony season so that we can best serve the community and our patrons. Rachmaninoff Piano Concerto No. 3\, previously scheduled for April 18\, 2020 will take place on January 9\, 2021. \nAll current tickets will be honored for the rescheduled date. \nYour Music Director David Lockington\, along with our committed musicians\, staff and board of directors can’t wait to welcome you back and join you in music when we can safely proceed with our concert schedule. In the meantime\, follow us on Facebook for updates and subscribe to our Youtube channel for our Symphony Podcast with Music Director David Lockington. To receive updates by email\, sign up here.[/vc_column_text][/vc_column_inner][/vc_row_inner][vc_empty_space height=”15px”][vc_separator border_width=”3″][vc_empty_space height=”30px”][vc_column_text]BBC Music has described Inon Barnatan’s artistry as displaying “great musical insight\, marvelous variety of tone and irresistibly mercurial lightness of touch.” Rachmaninoff’s powerhouse Piano Concerto No. 3 delivers keyboard pyrotechnics\, romance and visceral nostalgia\, while Mussorgsky’s Pictures at an Exhibition will transport you to an exotic art show depicted through musical illustrations; the melodies of which have become beloved standards in Classical music.[/vc_column_text][vc_row_inner][vc_column_inner width=”1/2″]Program Notes[/vc_column_inner][vc_column_inner width=”1/2″][/vc_column_inner][/vc_row_inner]ArtistsInon BarnatanPiano Alexander L. Millercomposer [vc_video link=”https://youtu.be/tUXJ-ea9EI8″][vc_column_text css=”.vc_custom_1583444313150{margin-top: 10px !important;margin-bottom: 30px !important;}”]David Lockington discusses this concert’s Russian-themed program.[/vc_column_text]Sponsors[vc_row_inner][vc_column_inner width=”3/4″][/vc_column_inner][vc_column_inner width=”1/4″][vc_single_image image=”14300″ img_size=”full”][/vc_column_inner][/vc_row_inner][/vc_column][/vc_row][vc_row][vc_column][/vc_column][/vc_row]
URL:https://pasadenasymphony-pops.org/concert/rachmaninoff-piano-concerto-3/
LOCATION:Ambassador Auditorium\, 131 S St. John Avenue\, Pasadena\, CA\, 91105\, United States
CATEGORIES:2019/2020 season,Symphony Classics
ATTACH;FMTTYPE=image/jpeg:https://pasadenasymphony-pops.org/wp-content/uploads/2019/02/Inon-Barnatan_featured_newdate.jpg
GEO:34.143377;-118.156512
X-APPLE-STRUCTURED-LOCATION;VALUE=URI;X-ADDRESS=Ambassador Auditorium 131 S St. John Avenue Pasadena CA 91105 United States;X-APPLE-RADIUS=500;X-TITLE=131 S St. John Avenue:geo:-118.156512,34.143377
END:VEVENT
BEGIN:VEVENT
DTSTART;VALUE=DATE:20200215
DTEND;VALUE=DATE:20200216
DTSTAMP:20260425T191858
CREATED:20190215T220042Z
LAST-MODIFIED:20200210T223536Z
UID:14361-1581724800-1581811199@pasadenasymphony-pops.org
SUMMARY:Gershwin/Debussy
DESCRIPTION:[vc_row][vc_column][vc_row_inner][vc_column_inner width=”1/2″][vc_single_image image=”14393″ img_size=”full”][/vc_column_inner][vc_column_inner width=”1/2″]\n	 			\n					\n						\n						Ambassador Auditorium\n						\n					\n				\n			[vc_empty_space height=”15px”][vc_column_text]February 15\, 2020\n2:00pm & 8:00pm[/vc_column_text][vc_column_text]Copland                   Fanfare for the Common Man\nMichael Giacchino   Voyage\nGershwin                  Porgy and Bess: Fantasy for Violin\nVaughan Williams    The Lark Ascending\nDebussy                   La Mer[/vc_column_text][vc_empty_space height=”15px”]Buy Tickets[/vc_column_inner][/vc_row_inner][vc_empty_space height=”10px”][vc_column_text] \n\nSpoil your Valentine with the perfect gift of a romantic program of emotional imagery and climaxing waves of sound that will run through you and excite the senses. Nick Kendall of the wildly popular trio Time for Three brings a fanciful violin concerto based on Gershwin’s Porgy and Bess\, while Debussy’s La Mer paints a majestic picture of the sea with a mosaic of orchestral colors. Also on the program\, Oscar-winning composer Michael Giacchino honors NASA with his interstellar Voyage.\n\n[/vc_column_text][vc_empty_space height=”10px”][vc_row_inner][vc_column_inner width=”1/2″]Program Notes[/vc_column_inner][vc_column_inner width=”1/2″]Listen[/vc_column_inner][/vc_row_inner]ArtistsNick KendallViolin Michael GiacchinoComposer Video[vc_video link=”https://youtu.be/EX6YNiueaY4″][vc_column_text css=”.vc_custom_1574288089870{margin-top: 10px !important;margin-bottom: 30px !important;}”]David Lockington highlights what to expect from this exciting program featuring Nick Kendall playing Gershwin\, film music by Michael Giacchino and more.[/vc_column_text][vc_video link=”https://youtu.be/uLIuO8T62lk”][vc_empty_space height=”15px”]Sponsors[vc_row_inner][vc_column_inner width=”3/4″][/vc_column_inner][vc_column_inner width=”1/4″][vc_single_image image=”14298″ img_size=”full”][/vc_column_inner][/vc_row_inner][/vc_column][/vc_row]
URL:https://pasadenasymphony-pops.org/concert/gershwin-porgy-and-bess/
LOCATION:Ambassador Auditorium\, 131 S St. John Avenue\, Pasadena\, CA\, 91105\, United States
CATEGORIES:2019/2020 season,Symphony Classics
ATTACH;FMTTYPE=image/jpeg:https://pasadenasymphony-pops.org/wp-content/uploads/2019/02/Nick-Kendall_ft.jpg
GEO:34.143377;-118.156512
X-APPLE-STRUCTURED-LOCATION;VALUE=URI;X-ADDRESS=Ambassador Auditorium 131 S St. John Avenue Pasadena CA 91105 United States;X-APPLE-RADIUS=500;X-TITLE=131 S St. John Avenue:geo:-118.156512,34.143377
END:VEVENT
BEGIN:VEVENT
DTSTART;VALUE=DATE:20200125
DTEND;VALUE=DATE:20200126
DTSTAMP:20260425T191858
CREATED:20190125T220042Z
LAST-MODIFIED:20200210T223534Z
UID:14359-1579910400-1579996799@pasadenasymphony-pops.org
SUMMARY:Vivaldi Four Seasons
DESCRIPTION:[vc_row][vc_column width=”1/2″][/vc_column][vc_column width=”1/2″][/vc_column][/vc_row][vc_row][vc_column][vc_row_inner][vc_column_inner width=”1/3″][vc_single_image image=”14512″ img_size=”full” alignment=”center”][/vc_column_inner][vc_column_inner width=”2/3″]\n	 			\n					\n						\n						Ambassador Auditorium\n						\n					\n				\n			[vc_empty_space height=”15px”][vc_column_text]January 25\, 2020\n2:00pm & 8:00pm[/vc_column_text][vc_column_text]Bach  The Goldberg Variations for strings\nReena Esmail  Teen Murti\nAlbinoni  Oboe Concerto transcribed for trumpet\nVivaldi  The Four Seasons\nPiazzolla  “Primavera Porteña” (Spring) from The Four Seasons of Buenos Aires\n[/vc_column_text][vc_empty_space height=”30px”]Buy Tickets[/vc_column_inner][/vc_row_inner][vc_empty_space height=”15px”][vc_column_text]Vivaldi’s Four Season heralds the return of local violinist Simone Porter whose career is now in full international stride with a command of technical chops\, elegant vibrato and the expressive panache to bring Vivaldi’s most cherished concertos to life.  Celebrate your Principal Trumpet Marissa Benedict as she takes center stage\, while Esmail’s Teen Murti draws inspiration from Hindi traditional raag melodies combined with Western techniques – the result is a sonorously magical experience.[/vc_column_text][vc_empty_space height=”10px”][vc_row_inner][vc_column_inner width=”1/2″]Listen[/vc_column_inner][vc_column_inner width=”1/2″]Program Notes[/vc_column_inner][/vc_row_inner]ArtistsSimone PorterViolin Reena EsmailComposer Video[vc_row_inner][vc_column_inner width=”1/2″][vc_video link=”https://www.youtube.com/watch?v=oMjQqjBGknI”][vc_column_text css=”.vc_custom_1574292292356{margin-top: 10px !important;margin-bottom: 30px !important;}”]What you can expect from this year’s Baroque-themed concert.[/vc_column_text][/vc_column_inner][vc_column_inner width=”1/2″][vc_video link=”https://youtu.be/yGSPJdGJML0″][vc_column_text css=”.vc_custom_1574292301710{margin-top: 10px !important;margin-bottom: 30px !important;}”]David Lockington discusses Composers Showcase artist Reena Esmail’s Teen Murti.[/vc_column_text][/vc_column_inner][/vc_row_inner][vc_video link=”https://www.youtube.com/watch?v=Oh5gIndwIu4″][vc_column_text css=”.vc_custom_1574292431869{margin-top: 10px !important;margin-bottom: 30px !important;}”]Simone Porter performs Beethoven’s Violin Concerto in D Major\, Op. 61\, II. Larghetto with the Northwest Sinfonietta conducted by David Lockington.[/vc_column_text]Sponsors[vc_row_inner][vc_column_inner width=”3/4″][/vc_column_inner][vc_column_inner width=”1/4″][vc_single_image image=”14294″ img_size=”full”][/vc_column_inner][/vc_row_inner][/vc_column][/vc_row]
URL:https://pasadenasymphony-pops.org/concert/vivaldi-four-seasons/
LOCATION:Ambassador Auditorium\, 131 S St. John Avenue\, Pasadena\, CA\, 91105\, United States
CATEGORIES:2019/2020 season,Symphony Classics
ATTACH;FMTTYPE=image/jpeg:https://pasadenasymphony-pops.org/wp-content/uploads/2020/01/Porter_featured.jpg
GEO:34.143377;-118.156512
X-APPLE-STRUCTURED-LOCATION;VALUE=URI;X-ADDRESS=Ambassador Auditorium 131 S St. John Avenue Pasadena CA 91105 United States;X-APPLE-RADIUS=500;X-TITLE=131 S St. John Avenue:geo:-118.156512,34.143377
END:VEVENT
BEGIN:VEVENT
DTSTART;VALUE=DATE:20191116
DTEND;VALUE=DATE:20191117
DTSTAMP:20260425T191858
CREATED:20190219T020042Z
LAST-MODIFIED:20200210T223533Z
UID:14357-1573862400-1573948799@pasadenasymphony-pops.org
SUMMARY:Beethoven "Emperor" Piano Concerto
DESCRIPTION:[vc_row][vc_column][vc_row_inner][vc_column_inner width=”1/3″][vc_single_image image=”14373″ img_size=”large” alignment=”center”][/vc_column_inner][vc_column_inner width=”2/3″]\n	 			\n					\n						\n						Ambassador Auditorium\n						\n					\n				\n			[vc_empty_space height=”15px”][vc_column_text]November 16\, 2019\n2:00pm & 8:00pm[/vc_column_text][vc_column_text] \nEllen Reid  Petrichor\n\nBeethoven  Piano Concerto No. 5\, “Emperor”\nde Falla  Three-Cornered Hat: Suite No. 1\nde Falla  “Ritual Fire Dance” from El amor brujo (Love\, the Magician)\nMárquez  Danzón No.2[/vc_column_text][vc_empty_space height=”30px”]Buy Tickets[/vc_column_inner][/vc_row_inner][vc_empty_space height=”15px”][vc_column_text]Beethoven’s heroic voice is on full display with his greatest piano concerto performed by award-winning pianist Alessio Bax\, whom Gramophone called “clearly among the most remarkable young pianists now before the public\,” in their review of his recording of the same work. Reid’s Petrichor redefines ‘surround sound’ with spatialized musicians\, shimmering strings and bright winds throughout the hall. Lockington is sure to deliver Latin sizzle with the rapturous rhythms and sultry melodies of DeFalla and Marquez. [/vc_column_text][vc_row_inner][vc_column_inner width=”1/2″]Listen[/vc_column_inner][vc_column_inner width=”1/2″]Program Notes[/vc_column_inner][/vc_row_inner][vc_empty_space height=”15px”]ArtistsAlessio BaxPiano Ellen ReidComposer Video[vc_row_inner][vc_column_inner width=”1/2″][vc_video link=”https://youtu.be/JgQsjLSna8g”][/vc_column_inner][vc_column_inner width=”1/2″][vc_video link=”https://youtu.be/GtvotAm5bEE”][/vc_column_inner][/vc_row_inner][vc_empty_space height=”15px”]Sponsors[vc_row_inner][vc_column_inner width=”3/4″][/vc_column_inner][vc_column_inner width=”1/4″][vc_single_image image=”15343″ img_size=”200×100″][/vc_column_inner][/vc_row_inner][/vc_column][/vc_row]
URL:https://pasadenasymphony-pops.org/concert/beethoven-emperor-piano-concerto/
LOCATION:Ambassador Auditorium\, 131 S St. John Avenue\, Pasadena\, CA\, 91105\, United States
CATEGORIES:2019/2020 season,Symphony Classics
ATTACH;FMTTYPE=image/jpeg:https://pasadenasymphony-pops.org/wp-content/uploads/2020/11/Alessio_featurd2.jpg
GEO:34.143377;-118.156512
X-APPLE-STRUCTURED-LOCATION;VALUE=URI;X-ADDRESS=Ambassador Auditorium 131 S St. John Avenue Pasadena CA 91105 United States;X-APPLE-RADIUS=500;X-TITLE=131 S St. John Avenue:geo:-118.156512,34.143377
END:VEVENT
BEGIN:VEVENT
DTSTART;VALUE=DATE:20191019
DTEND;VALUE=DATE:20191020
DTSTAMP:20260425T191858
CREATED:20190218T190042Z
LAST-MODIFIED:20200210T223532Z
UID:14355-1571443200-1571529599@pasadenasymphony-pops.org
SUMMARY:Brahms Symphony No. 1
DESCRIPTION:[vc_row][vc_column][vc_row_inner][vc_column_inner width=”1/3″][vc_single_image image=”14502″ img_size=”full”][/vc_column_inner][vc_column_inner width=”2/3″]\n	 			\n					\n						\n						Ambassador Auditorium\n						\n					\n				\n			[vc_empty_space height=”15px”][vc_column_text]October 19\, 2019\n2:00pm & 8:00pm[/vc_column_text][vc_column_text] \n\nSydney Wang   (P is for Play!)\n\n\n                          world premiere\, Pasadena Symphony Commission\n\nBruch                Violin Concerto No. 1 in G minor\, Op. 26\nBrahms             Symphony No. 1 in C minor\, Op. 68\n[/vc_column_text][vc_empty_space height=”30px”]Buy Tickets[/vc_column_inner][/vc_row_inner][vc_empty_space height=”15px”][vc_column_text]Pasadena’s Classical season opens with quite possibly the best first symphony ever written – placing Brahms in his rightful place as one of the world’s most beloved musical geniuses whose works stand the test of time. Tessa Lark\, “an accomplished and expressive artist worthy of all the fuss\,” (Albany Times Union) will delight audiences with Bruch’s playfully acrobatic and virtuosic Violin Concerto\, plus hear a new commission worthy of a grand opening night![/vc_column_text][vc_empty_space height=”15px”][/vc_column][/vc_row][vc_row][vc_column width=”1/2″]Listen[/vc_column][vc_column width=”1/2″]Program Notes[/vc_column][/vc_row][vc_row][vc_column]ArtistsTessa LarkViolin Sydney WangComposer Video[vc_video link=”https://youtu.be/27wKHoHVitg”]Sponsors[vc_row_inner][vc_column_inner width=”3/4″][/vc_column_inner][vc_column_inner width=”1/4″][vc_single_image image=”14300″ img_size=”full” onclick=”custom_link” link=”https://pasadenasymphony-pops.org/give/leadershipgifts/”][/vc_column_inner][/vc_row_inner][/vc_column][/vc_row]
URL:https://pasadenasymphony-pops.org/concert/brahms-symphony-no-1/
LOCATION:Ambassador Auditorium\, 131 S St. John Avenue\, Pasadena\, CA\, 91105\, United States
CATEGORIES:2019/2020 season,Symphony Classics
ATTACH;FMTTYPE=image/jpeg:https://pasadenasymphony-pops.org/wp-content/uploads/2019/02/tessa-lark-featured.jpg
GEO:34.143377;-118.156512
X-APPLE-STRUCTURED-LOCATION;VALUE=URI;X-ADDRESS=Ambassador Auditorium 131 S St. John Avenue Pasadena CA 91105 United States;X-APPLE-RADIUS=500;X-TITLE=131 S St. John Avenue:geo:-118.156512,34.143377
END:VEVENT
END:VCALENDAR