BEGIN:VCALENDAR
VERSION:2.0
PRODID:-//Pasadena Symphony &amp; Pops - ECPv6.15.19//NONSGML v1.0//EN
CALSCALE:GREGORIAN
METHOD:PUBLISH
X-ORIGINAL-URL:https://pasadenasymphony-pops.org
X-WR-CALDESC:Events for Pasadena Symphony &amp; Pops
REFRESH-INTERVAL;VALUE=DURATION:PT1H
X-Robots-Tag:noindex
X-PUBLISHED-TTL:PT1H
BEGIN:VTIMEZONE
TZID:UTC
BEGIN:STANDARD
TZOFFSETFROM:+0000
TZOFFSETTO:+0000
TZNAME:UTC
DTSTART:20250101T000000
END:STANDARD
END:VTIMEZONE
BEGIN:VEVENT
DTSTART;VALUE=DATE:20260620
DTEND;VALUE=DATE:20260621
DTSTAMP:20260423T072959
CREATED:20260310T170042Z
LAST-MODIFIED:20260320T164833Z
UID:32141-1781913600-1781999999@pasadenasymphony-pops.org
SUMMARY:Star Spangled Salute To The Movies A Special Tribute to John Williams
DESCRIPTION:[vc_row][vc_column][vc_column_text css=””][/vc_column_text][/vc_column][/vc_row][vc_row][vc_column][vc_row_inner][vc_column_inner width=”1/2″][vc_single_image image=”32752″ img_size=”full” css=””][/vc_column_inner][vc_column_inner width=”1/2″]\n	 			\n					\n						\n						LA County Arboretum\n						\n					\n				\n			[vc_empty_space height=”7px”][vc_column_text css=””]June 20\, 2026\nGates open at 5:30pm for picnicking\nConcert begins at 7:30pm[/vc_column_text][vc_column_text][/vc_column_text][vc_empty_space height=”30px”]BUY TICKETS[vc_empty_space height=”15px”][/vc_column_inner][/vc_row_inner][vc_empty_space height=”15px”][vc_column_text css=””]Resident Pops Conductor Larry Blank kicks off the season with epic scores from Superman\, E.T.\, Raiders of the Lost Arc and Star Wars\, and a tribute to the late Marvin Hamlisch with “Nobody Does it Better\,” “The Way We Were” and more Hollywood blockbusters for an unforgettable evening celebrating American film music. [/vc_column_text][vc_empty_space height=”15px”]Artists[vc_empty_space height=”15px”]Larry BlankConductor Morgan JamesSoloist VideoSponsors[vc_row_inner][vc_column_inner width=”2/3″][/vc_column_inner][vc_column_inner width=”1/3″][/vc_column_inner][/vc_row_inner][vc_empty_space height=”30px”][/vc_column][/vc_row]
URL:https://pasadenasymphony-pops.org/concert/star-spangled-salute/
LOCATION:LA County Arboretum\, 301 N. Baldwin Ave\, Los Angeles\, CA\, 91007\, United States
CATEGORIES:2026 Season,POPS Summer Series
ATTACH;FMTTYPE=image/jpeg:https://pasadenasymphony-pops.org/wp-content/uploads/2026/03/Star-Spangled-Feature.jpg
ORGANIZER;CN="Pasadena POPS":MAILTO:info@https://pasadenasymphony-pops.org/
GEO:34.1442758;-118.0503157
X-APPLE-STRUCTURED-LOCATION;VALUE=URI;X-ADDRESS=LA County Arboretum 301 N. Baldwin Ave Los Angeles CA 91007 United States;X-APPLE-RADIUS=500;X-TITLE=301 N. Baldwin Ave:geo:-118.0503157,34.1442758
END:VEVENT
BEGIN:VEVENT
DTSTART;VALUE=DATE:20260711
DTEND;VALUE=DATE:20260712
DTSTAMP:20260423T072959
CREATED:20260310T170042Z
LAST-MODIFIED:20260409T201350Z
UID:32143-1783728000-1783814399@pasadenasymphony-pops.org
SUMMARY:Dancing In the Street: Music of Motown
DESCRIPTION:[vc_row][vc_column][vc_row_inner][vc_column_inner width=”1/2″][vc_single_image image=”32843″ img_size=”full” css=””][/vc_column_inner][vc_column_inner width=”1/2″]\n	 			\n					\n						\n						LA County Arboretum\n						\n					\n				\n			[vc_empty_space height=”7px”][vc_column_text css=””]July 11\, 2026\nGates open at 5:30pm for picnicking\nConcert begins at 7:30pm[/vc_column_text][vc_column_text][/vc_column_text][vc_empty_space height=”30px”]BUY TICKETS[vc_empty_space height=”15px”][/vc_column_inner][/vc_row_inner][vc_empty_space height=”15px”][vc_column_text css=””]Get ready to groove to the Temptations\, Supremes and Stevie Wonder for this soulful celebration of legendary Motown artists. Hits like My Girl\, I Feel Good and Superstition will have you singin’ and dancin’ All Night Long[/vc_column_text][vc_empty_space height=”15px”]Artists[vc_empty_space height=”15px”]Larry BlankConductor Shayna SteeleSoloist Chester GregorySoloist Terron BrooksSoloist VideoSponsors[vc_row_inner][vc_column_inner width=”2/3″][/vc_column_inner][vc_column_inner width=”1/3″][/vc_column_inner][/vc_row_inner][vc_empty_space height=”30px”][/vc_column][vc_column][/vc_column][/vc_row]
URL:https://pasadenasymphony-pops.org/concert/music-of-motown/
LOCATION:LA County Arboretum\, 301 N. Baldwin Ave\, Los Angeles\, CA\, 91007\, United States
CATEGORIES:2026 Season,POPS Summer Series
ATTACH;FMTTYPE=image/jpeg:https://pasadenasymphony-pops.org/wp-content/uploads/2026/03/Shayna-Steele_featured.jpg
ORGANIZER;CN="Pasadena POPS":MAILTO:info@https://pasadenasymphony-pops.org/
GEO:34.1442758;-118.0503157
X-APPLE-STRUCTURED-LOCATION;VALUE=URI;X-ADDRESS=LA County Arboretum 301 N. Baldwin Ave Los Angeles CA 91007 United States;X-APPLE-RADIUS=500;X-TITLE=301 N. Baldwin Ave:geo:-118.0503157,34.1442758
END:VEVENT
BEGIN:VEVENT
DTSTART;VALUE=DATE:20260725
DTEND;VALUE=DATE:20260726
DTSTAMP:20260423T072959
CREATED:20260310T170042Z
LAST-MODIFIED:20260410T220130Z
UID:31939-1784937600-1785023999@pasadenasymphony-pops.org
SUMMARY:A Toast to the Rat Pack
DESCRIPTION:[vc_row][vc_column][vc_column_text css=””][/vc_column_text][/vc_column][/vc_row][vc_row][vc_column][vc_row_inner][vc_column_inner width=”1/2″][vc_single_image image=”32762″ img_size=”full” css=””][/vc_column_inner][vc_column_inner width=”1/2″]\n	 			\n					\n						\n						LA County Arboretum\n						\n					\n				\n			[vc_empty_space height=”7px”][vc_column_text css=””]July 25\, 2026\nGates open at 5:30pm for picnicking\nConcert begins at 7:30pm[/vc_column_text][vc_column_text][/vc_column_text][vc_empty_space height=”30px”]BUY TICKETS[vc_empty_space height=”15px”][/vc_column_inner][/vc_row_inner][vc_empty_space height=”15px”][vc_column_text css=””]Step back into the golden age of swing with the timeless hits of Frank Sinatra\, Dean Martin and Ella Fitzgerald for a dazzling evening of swagger\, smooth vocals\, and big band swing with: My Way\, Come Fly with Me\, I’ve Got the World on a String\, Ain’t that a Kick in the Head\, Come Rain or Come Shine and so much more. [/vc_column_text][vc_empty_space height=”15px”]Artists[vc_empty_space height=”15px”]Larry BlankConductor Steve LippiaSoloist Carmen BradfordSoloist Todd MurraySoloist Video[vc_row_inner][vc_column_inner][vc_empty_space height=”15″][vc_column_text][/vc_column_text][vc_empty_space height=”15″][/vc_column_inner][/vc_row_inner]Sponsors[vc_row_inner][vc_column_inner width=”2/3″][/vc_column_inner][vc_column_inner width=”1/3″][/vc_column_inner][/vc_row_inner][vc_empty_space height=”30px”][/vc_column][/vc_row]
URL:https://pasadenasymphony-pops.org/concert/rat-pack-tribute/
LOCATION:LA County Arboretum\, 301 N. Baldwin Ave\, Los Angeles\, CA\, 91007\, United States
CATEGORIES:2026 Season,POPS Summer Series
ATTACH;FMTTYPE=image/jpeg:https://pasadenasymphony-pops.org/wp-content/uploads/2026/03/Todd-Murray_featured.jpg
ORGANIZER;CN="Pasadena POPS":MAILTO:info@https://pasadenasymphony-pops.org/
GEO:34.1442758;-118.0503157
X-APPLE-STRUCTURED-LOCATION;VALUE=URI;X-ADDRESS=LA County Arboretum 301 N. Baldwin Ave Los Angeles CA 91007 United States;X-APPLE-RADIUS=500;X-TITLE=301 N. Baldwin Ave:geo:-118.0503157,34.1442758
END:VEVENT
BEGIN:VEVENT
DTSTART;VALUE=DATE:20260815
DTEND;VALUE=DATE:20260816
DTSTAMP:20260423T072959
CREATED:20230926T170042Z
LAST-MODIFIED:20260409T201140Z
UID:32147-1786752000-1786838399@pasadenasymphony-pops.org
SUMMARY:Remember When Rock Was Young: The Elton John Tribute
DESCRIPTION:[vc_row][vc_column][vc_column_text css=””][/vc_column_text][/vc_column][/vc_row][vc_row][vc_column][vc_row_inner][vc_column_inner width=”1/2″][vc_single_image image=”32767″ img_size=”full” css=””][/vc_column_inner][vc_column_inner width=”1/2″]\n	 			\n					\n						\n						LA County Arboretum\n						\n					\n				\n			[vc_empty_space height=”7px”][vc_column_text css=””]August 15\, 2026\nGates open at 5:30pm for picnicking\nConcert begins at 7:30pm[/vc_column_text][vc_column_text][/vc_column_text][vc_empty_space height=”30px”]BUY TICKETS[vc_empty_space height=”15px”][/vc_column_inner][/vc_row_inner][vc_empty_space height=”15px”][vc_column_text css=””]Get ready for a spectacular theatrical experience capturing the Rocketman’s music\, costumes and charisma. From Benny and the Jets and Tiny Dancer to Candle in the Wind and Crocodile Rock\, this high-energy show brings his chart-topping hits to life with unforgettable flair.  [/vc_column_text][vc_empty_space height=”15px”]Artists[vc_empty_space height=”15px”]Larry BlankConductor Craig A. MeyerVideo[vc_video link=”https://vimeo.com/1171190686?share=copy&fl=sv&fe=ci” css=””]Sponsors[vc_row_inner][vc_column_inner width=”2/3″][/vc_column_inner][vc_column_inner width=”1/3″][/vc_column_inner][/vc_row_inner][vc_empty_space height=”30px”][/vc_column][/vc_row]
URL:https://pasadenasymphony-pops.org/concert/elton-john-tribute/
LOCATION:LA County Arboretum\, 301 N. Baldwin Ave\, Los Angeles\, CA\, 91007\, United States
CATEGORIES:2026 Season,POPS Summer Series
ATTACH;FMTTYPE=image/jpeg:https://pasadenasymphony-pops.org/wp-content/uploads/2026/03/Elton-John-Featured.jpg
GEO:34.1442758;-118.0503157
X-APPLE-STRUCTURED-LOCATION;VALUE=URI;X-ADDRESS=LA County Arboretum 301 N. Baldwin Ave Los Angeles CA 91007 United States;X-APPLE-RADIUS=500;X-TITLE=301 N. Baldwin Ave:geo:-118.0503157,34.1442758
END:VEVENT
BEGIN:VEVENT
DTSTART;VALUE=DATE:20260829
DTEND;VALUE=DATE:20260830
DTSTAMP:20260423T072959
CREATED:20230926T170042Z
LAST-MODIFIED:20260413T232922Z
UID:32151-1787961600-1788047999@pasadenasymphony-pops.org
SUMMARY:Music of the Night: Andrew Lloyd Webber & Friends
DESCRIPTION:[vc_row][vc_column][vc_row_inner][vc_column_inner width=”1/2″][vc_single_image image=”32775″ img_size=”full” css=””][/vc_column_inner][vc_column_inner width=”1/2″]\n	 			\n					\n						\n						LA County Arboretum\n						\n					\n				\n			[vc_empty_space height=”7px”][vc_column_text css=””]August 29th\, 2026\nGates open at 5:30pm for picnicking\nConcert begins at 7:30pm[/vc_column_text][vc_column_text][/vc_column_text][vc_empty_space height=”30px”]BUY TICKETS[vc_empty_space height=”15px”][/vc_column_inner][/vc_row_inner][vc_empty_space height=”15px”][vc_column_text css=””]The season closes with an unforgettable evening of drama\, passion and iconic melodies from Broadway’s legendary Andrew Lloyd Webber and his contemporaries – Stephen Sondheim\, Stephen Schwartz\, Kander and Ebb\, Leonard Bernstein\, Jerry Herman and more. Get ready for hits from Phantom of the Opera\, Cats\, Evita\, West Side Story\, Les Misérables and all of your favorite Broadway tunes.[/vc_column_text][vc_empty_space height=”15px”]Artists[vc_empty_space height=”15px”]Larry BlankConductor Valerie PerriSoloist Hugh PanaroSoloist Scarlett StrallenSoloist Video[vc_row_inner][vc_column_inner][vc_column_text][/vc_column_text][vc_empty_space height=”15″][/vc_column_inner][/vc_row_inner]Sponsors[vc_row_inner][vc_column_inner width=”2/3″][/vc_column_inner][vc_column_inner width=”1/3″][/vc_column_inner][/vc_row_inner][vc_empty_space height=”30px”][/vc_column][/vc_row]
URL:https://pasadenasymphony-pops.org/concert/andrew-lloyd-webber-concert/
LOCATION:LA County Arboretum\, 301 N. Baldwin Ave\, Los Angeles\, CA\, 91007\, United States
CATEGORIES:2026 Season,POPS Summer Series
ATTACH;FMTTYPE=image/jpeg:https://pasadenasymphony-pops.org/wp-content/uploads/2023/09/StrallenScarlett2021HIGHRES-2-scaled-e1773276219413.jpg
ORGANIZER;CN="Pasadena POPS":MAILTO:info@https://pasadenasymphony-pops.org/
GEO:34.1442758;-118.0503157
X-APPLE-STRUCTURED-LOCATION;VALUE=URI;X-ADDRESS=LA County Arboretum 301 N. Baldwin Ave Los Angeles CA 91007 United States;X-APPLE-RADIUS=500;X-TITLE=301 N. Baldwin Ave:geo:-118.0503157,34.1442758
END:VEVENT
END:VCALENDAR