BEGIN:VCALENDAR
VERSION:2.0
PRODID:-//Pasadena Symphony &amp; Pops - ECPv6.15.19//NONSGML v1.0//EN
CALSCALE:GREGORIAN
METHOD:PUBLISH
X-WR-CALNAME:Pasadena Symphony &amp; Pops
X-ORIGINAL-URL:https://pasadenasymphony-pops.org
X-WR-CALDESC:Events for Pasadena Symphony &amp; Pops
REFRESH-INTERVAL;VALUE=DURATION:PT1H
X-Robots-Tag:noindex
X-PUBLISHED-TTL:PT1H
BEGIN:VTIMEZONE
TZID:UTC
BEGIN:STANDARD
TZOFFSETFROM:+0000
TZOFFSETTO:+0000
TZNAME:UTC
DTSTART:20230101T000000
END:STANDARD
END:VTIMEZONE
BEGIN:VEVENT
DTSTART;VALUE=DATE:20240907
DTEND;VALUE=DATE:20240908
DTSTAMP:20260425T184858
CREATED:20230926T170042Z
LAST-MODIFIED:20240816T032344Z
UID:27102-1725667200-1725753599@pasadenasymphony-pops.org
SUMMARY:Oscar Meets Tony
DESCRIPTION:[vc_row][vc_column][vc_row_inner][vc_column_inner width=”1/2″][vc_single_image image=”30058″ img_size=”full” css=””][/vc_column_inner][vc_column_inner width=”1/2″]\n	 			\n					\n						\n						LA County Arboretum\n						\n					\n				\n			[vc_empty_space height=”7px”][vc_column_text]September 7\, 2024\nGates open at 5:30pm for picnicking\nConcert begins at 7:30pm[/vc_column_text][vc_column_text][/vc_column_text][vc_empty_space height=”30px”]Buy Tickets[vc_empty_space height=”15px”][/vc_column_inner][/vc_row_inner][vc_empty_space height=”15px”][vc_column_text css=””]Award-winning music from stage and screen with songs from Hello Dolly\, Gigi\, Wicked and Chicago with composers Henry Mancini\, Alan Menken and more. \n\n[/vc_column_text][vc_empty_space height=”15px”]Artists[vc_empty_space height=”15px”]Michael FeinsteinConductor Norm LewisSoloist Morgan JamesSoloist Video[vc_row_inner][vc_column_inner][vc_empty_space height=”30px”][vc_column_text][/vc_column_text][/vc_column_inner][/vc_row_inner]Sponsors[vc_row_inner][vc_column_inner width=”2/3″][/vc_column_inner][vc_column_inner width=”1/3″][vc_single_image image=”27058″ img_size=”medium” onclick=”custom_link” img_link_target=”_blank” css=”” link=”https://joseiturbifoundation.org/foundation.php”][/vc_column_inner][/vc_row_inner][vc_empty_space height=”30px”][/vc_column][/vc_row]
URL:https://pasadenasymphony-pops.org/concert/oscar-meets-tony/
LOCATION:LA County Arboretum\, 301 N. Baldwin Ave\, Los Angeles\, CA\, 91007\, United States
CATEGORIES:2024 Season,POPS Summer Series
ATTACH;FMTTYPE=image/png:https://pasadenasymphony-pops.org/wp-content/uploads/2023/09/Norm-Lewis-featured.png
GEO:34.1442758;-118.0503157
X-APPLE-STRUCTURED-LOCATION;VALUE=URI;X-ADDRESS=LA County Arboretum 301 N. Baldwin Ave Los Angeles CA 91007 United States;X-APPLE-RADIUS=500;X-TITLE=301 N. Baldwin Ave:geo:-118.0503157,34.1442758
END:VEVENT
BEGIN:VEVENT
DTSTART;VALUE=DATE:20240824
DTEND;VALUE=DATE:20240825
DTSTAMP:20260425T184858
CREATED:20230926T170042Z
LAST-MODIFIED:20240822T224029Z
UID:27100-1724457600-1724543999@pasadenasymphony-pops.org
SUMMARY:California Dreamin'
DESCRIPTION:[vc_row][vc_column][vc_row_inner][vc_column_inner width=”1/2″][vc_single_image image=”29804″ img_size=”full” css=””][/vc_column_inner][vc_column_inner width=”1/2″]\n	 			\n					\n						\n						LA County Arboretum\n						\n					\n				\n			[vc_empty_space height=”7px”][vc_column_text]August 24\, 2024\nGates open at 5:30pm for picnicking\nConcert begins at 7:30pm[/vc_column_text][vc_column_text][/vc_column_text][vc_empty_space height=”30px”]Buy Tickets[vc_empty_space height=”15px”][/vc_column_inner][/vc_row_inner][vc_empty_space height=”15px”][vc_column_text css=””]Music that shaped a state of mind from the Gold Rush through the rise of Hollywood studio music with hits from The Beach Boys\, The Mamas and the Papas\, the Eagles and more. Hear everything from “California Dreamin’” and “Good Vibrations” to “Do You Know the Way to San Jose\,” “Desperado” and even John Williams! \n\n[/vc_column_text][vc_empty_space height=”15px”]Artists[vc_empty_space height=”15px”]Michael FeinsteinConductor Betsy WolfeSoloist Hugh PanaroSoloist Video[vc_row_inner][vc_column_inner][vc_empty_space height=”30px”][vc_column_text][/vc_column_text][/vc_column_inner][/vc_row_inner]Sponsors[vc_row_inner][vc_column_inner width=”1/2″][/vc_column_inner][vc_column_inner width=”1/4″][vc_single_image image=”25604″ onclick=”custom_link” img_link_target=”_blank” css=”” link=”https://ftsius.com/”][/vc_column_inner][vc_column_inner width=”1/4″][vc_single_image image=”19094″ img_size=”full” css=””][/vc_column_inner][/vc_row_inner][vc_empty_space height=”30px”][/vc_column][/vc_row]
URL:https://pasadenasymphony-pops.org/concert/california-dreamin/
LOCATION:LA County Arboretum\, 301 N. Baldwin Ave\, Los Angeles\, CA\, 91007\, United States
CATEGORIES:2024 Season,POPS Summer Series
ATTACH;FMTTYPE=image/jpeg:https://pasadenasymphony-pops.org/wp-content/uploads/2023/09/betsywolfe_featured.jpg
GEO:34.1442758;-118.0503157
X-APPLE-STRUCTURED-LOCATION;VALUE=URI;X-ADDRESS=LA County Arboretum 301 N. Baldwin Ave Los Angeles CA 91007 United States;X-APPLE-RADIUS=500;X-TITLE=301 N. Baldwin Ave:geo:-118.0503157,34.1442758
END:VEVENT
BEGIN:VEVENT
DTSTART;VALUE=DATE:20240810
DTEND;VALUE=DATE:20240811
DTSTAMP:20260425T184858
CREATED:20230926T170042Z
LAST-MODIFIED:20240805T233954Z
UID:27080-1723248000-1723334399@pasadenasymphony-pops.org
SUMMARY:Michael Cavanaugh Sings Paul Simon & More
DESCRIPTION:[vc_row][vc_column][vc_row_inner][vc_column_inner width=”1/2″][vc_single_image image=”21839″ img_size=”full”][/vc_column_inner][vc_column_inner width=”1/2″]\n	 			\n					\n						\n						LA County Arboretum\n						\n					\n				\n			[vc_empty_space height=”7px”][vc_column_text]August 10\, 2024\nGates open at 5:30pm for picnicking\nConcert begins at 7:30pm[/vc_column_text][vc_column_text][/vc_column_text][vc_empty_space height=”30px”]Buy Tickets[vc_empty_space height=”15px”][vc_column_text][/vc_column_text][/vc_column_inner][/vc_row_inner][vc_empty_space height=”15 px”][vc_column_text css=””]“The New Voice of the American Rock ’n Roll Songbook\,” (Billboard) returns with the music of Paul Simon\, James Taylor\, Billy Joel and more. You’re guaranteed to know and love every song with “50 Ways to Leave Your Lover\,” “You Can Call me Al\,” “How Sweet It Is\,” “Whenever I See Your Smiling Face\,” “Piano Man\,” “Sweet Caroline” and more for a night of sing-a-long favorites![/vc_column_text][vc_empty_space height=”15px”]Artists[vc_empty_space height=”15px”]Michael CavanaughGuest Artist Larry BlankConductor Video[vc_empty_space height=”5″][vc_video link=”https://vimeo.com/991816915″ css=””]Sponsors[vc_row_inner][vc_column_inner width=”1/2″][/vc_column_inner][vc_column_inner width=”1/6″][vc_single_image image=”22919″ img_size=”medium” onclick=”custom_link” css=”” link=”https://www.arcadiaca.gov/”][/vc_column_inner][vc_column_inner width=”1/3″][vc_single_image image=”17825″ img_size=”full” css=””][/vc_column_inner][/vc_row_inner][vc_empty_space height=”30px”][/vc_column][/vc_row][vc_row][vc_column][/vc_column][/vc_row]
URL:https://pasadenasymphony-pops.org/concert/michael-cavanaugh-sings-paul-simon-and-more/
LOCATION:LA County Arboretum\, 301 N. Baldwin Ave\, Los Angeles\, CA\, 91007\, United States
CATEGORIES:2024 Season,POPS Summer Series
ATTACH;FMTTYPE=image/jpeg:https://pasadenasymphony-pops.org/wp-content/uploads/2022/02/Cavanaughpiano_crop.jpg
GEO:34.1442758;-118.0503157
X-APPLE-STRUCTURED-LOCATION;VALUE=URI;X-ADDRESS=LA County Arboretum 301 N. Baldwin Ave Los Angeles CA 91007 United States;X-APPLE-RADIUS=500;X-TITLE=301 N. Baldwin Ave:geo:-118.0503157,34.1442758
END:VEVENT
BEGIN:VEVENT
DTSTART;VALUE=DATE:20240727
DTEND;VALUE=DATE:20240728
DTSTAMP:20260425T184858
CREATED:20230924T170042Z
LAST-MODIFIED:20240710T221246Z
UID:27078-1722038400-1722124799@pasadenasymphony-pops.org
SUMMARY:Michael Feinstein's Tribute to Tony Bennett and Frank Sinatra
DESCRIPTION:[vc_row][vc_column][vc_row_inner][vc_column_inner width=”1/2″][vc_single_image image=”10912″ img_size=”full”][/vc_column_inner][vc_column_inner width=”1/2″]\n	 			\n					\n						\n						LA County Arboretum\n						\n					\n				\n			[vc_empty_space height=”7px”][vc_column_text]July 27\, 2024\nGates open at 5:30pm for picnicking\nConcert begins at 7:30pm[/vc_column_text][vc_column_text][/vc_column_text][vc_empty_space height=”30px”]Buy Tickets[vc_empty_space height=”15px”][/vc_column_inner][/vc_row_inner][vc_empty_space height=”15px”][vc_column_text] \n“The Best is Yet to Come” as Michael Feinstein remembers the larger than life personas of Tony Bennett and Ol’ Blue Eyes. From “New York\, New York” to “I Left My Heart in San Francisco\,” hear the stories behind these legends as only the Ambassador of the Great American Songbook can deliver.\n\n[/vc_column_text][vc_empty_space height=”15px”]Artists[vc_empty_space height=”15px”]Larry BlankConductor Michael FeinsteinSoloist Video[vc_row_inner][vc_column_inner][vc_empty_space height=”30px”][vc_column_text][/vc_column_text][/vc_column_inner][/vc_row_inner]Sponsors[vc_row_inner][vc_column_inner width=”2/3″][/vc_column_inner][vc_column_inner width=”1/3″][vc_single_image image=”23298″ img_size=”full” css=””][/vc_column_inner][/vc_row_inner][vc_empty_space height=”30px”][/vc_column][/vc_row]
URL:https://pasadenasymphony-pops.org/concert/michael-feinstein-tribute-to-tony-bennett-and-frank-sinatra/
LOCATION:LA County Arboretum\, 301 N. Baldwin Ave\, Los Angeles\, CA\, 91007\, United States
CATEGORIES:2024 Season,POPS Summer Series
ATTACH;FMTTYPE=image/jpeg:https://pasadenasymphony-pops.org/wp-content/uploads/2023/09/Feinstein_featured-image.jpg
GEO:34.1442758;-118.0503157
X-APPLE-STRUCTURED-LOCATION;VALUE=URI;X-ADDRESS=LA County Arboretum 301 N. Baldwin Ave Los Angeles CA 91007 United States;X-APPLE-RADIUS=500;X-TITLE=301 N. Baldwin Ave:geo:-118.0503157,34.1442758
END:VEVENT
BEGIN:VEVENT
DTSTART;VALUE=DATE:20240713
DTEND;VALUE=DATE:20240714
DTSTAMP:20260425T184858
CREATED:20230926T170042Z
LAST-MODIFIED:20240710T221210Z
UID:27074-1720828800-1720915199@pasadenasymphony-pops.org
SUMMARY:Waterloo: A Tribute to ABBA
DESCRIPTION:[vc_row][vc_column][vc_row_inner][vc_column_inner width=”1/2″][vc_single_image image=”28058″ img_size=”full”][/vc_column_inner][vc_column_inner width=”1/2″]\n	 			\n					\n						\n						LA County Arboretum\n						\n					\n				\n			[vc_empty_space height=”7px”][vc_column_text]July 13\, 2024\nGates open at 5:30pm for picnicking\nConcert begins at 7:30pm[/vc_column_text][vc_column_text][/vc_column_text][vc_empty_space height=”30px”]Buy Tickets[vc_empty_space height=”15px”][/vc_column_inner][/vc_row_inner][vc_empty_space height=”15px”][vc_column_text css=””] \nNamed “the best ABBA since ABBA” by ABBA’s official international fan club\, audiences will be dancing in the aisles to ABBA’s most iconic hits. Hear “Mamma Mia\,” “S.O.S\,” “Money\, Money\, Money\,” “Waterloo\,” “Dancing Queen” and more.\n\n[/vc_column_text][vc_empty_space height=”15px”]Artists[vc_empty_space height=”15px”]Larry BlankConductor Waterloo: A Tribute to ABBASpecial guests Video[vc_row_inner][vc_column_inner][vc_empty_space height=”30px”][vc_column_text][/vc_column_text][/vc_column_inner][/vc_row_inner]Sponsors[vc_row_inner][vc_column_inner width=”1/2″][/vc_column_inner][vc_column_inner width=”1/4″][vc_single_image image=”25604″ onclick=”custom_link” css=”” link=”https://ftsius.com/”][/vc_column_inner][vc_column_inner width=”1/4″][vc_single_image image=”14298″ img_size=”full” css=””][/vc_column_inner][/vc_row_inner][vc_empty_space height=”30px”][/vc_column][/vc_row]
URL:https://pasadenasymphony-pops.org/concert/waterloo-tribute-to-abba/
LOCATION:LA County Arboretum\, 301 N. Baldwin Ave\, Los Angeles\, CA\, 91007\, United States
CATEGORIES:2024 Season,POPS Summer Series
ATTACH;FMTTYPE=image/jpeg:https://pasadenasymphony-pops.org/wp-content/uploads/2023/09/Abba_featured-image.jpg
GEO:34.1442758;-118.0503157
X-APPLE-STRUCTURED-LOCATION;VALUE=URI;X-ADDRESS=LA County Arboretum 301 N. Baldwin Ave Los Angeles CA 91007 United States;X-APPLE-RADIUS=500;X-TITLE=301 N. Baldwin Ave:geo:-118.0503157,34.1442758
END:VEVENT
BEGIN:VEVENT
DTSTART;VALUE=DATE:20240629
DTEND;VALUE=DATE:20240630
DTSTAMP:20260425T184858
CREATED:20230926T170042Z
LAST-MODIFIED:20240627T200009Z
UID:27069-1719619200-1719705599@pasadenasymphony-pops.org
SUMMARY:Harlem Nights
DESCRIPTION:[vc_row][vc_column][vc_row_inner][vc_column_inner width=”1/2″][vc_single_image image=”29358″ img_size=”full”][/vc_column_inner][vc_column_inner width=”1/2″]\n	 			\n					\n						\n						LA County Arboretum\n						\n					\n				\n			[vc_empty_space height=”7px”][vc_column_text]June 29\, 2024\nGates open at 5:30pm for picnicking\nConcert begins at 7:30pm[/vc_column_text][vc_column_text][/vc_column_text][vc_empty_space height=”30px”]Buy Tickets[vc_empty_space height=”15px”][/vc_column_inner][/vc_row_inner][vc_empty_space height=”15px”][vc_column_text] \nIn honor of Duke Ellington’s 125th birthday\, the POPS celebrates the explosion of music in 1920s New York that gave birth to the Jazz Age\, Swing Era and beyond. Hear favorites from Gershwin and Ellington to Louis Armstrong\, Billie Holiday\, Count Basie\, Ella Fitzgerald and more. \n\n\n[/vc_column_text][vc_empty_space height=”15px”]Artists[vc_empty_space height=”15px”]Michael FeinsteinConductor Catherine RussellGuest Artist Byron StriplingGuest Artist Video[vc_row_inner][vc_column_inner][vc_empty_space height=”30px”][vc_column_text][/vc_column_text][/vc_column_inner][/vc_row_inner]Sponsors[vc_row_inner][vc_column_inner width=”2/3″][/vc_column_inner][vc_column_inner width=”1/3″][vc_empty_space height=”50″][vc_single_image image=”29953″ img_size=”medium” onclick=”custom_link” css=”” link=”https://www.lhmp.com/”][/vc_column_inner][/vc_row_inner][vc_empty_space height=”30px”][/vc_column][/vc_row]
URL:https://pasadenasymphony-pops.org/concert/harlem-nights/
LOCATION:LA County Arboretum\, 301 N. Baldwin Ave\, Los Angeles\, CA\, 91007\, United States
CATEGORIES:2024 Season,POPS Summer Series
ATTACH;FMTTYPE=image/jpeg:https://pasadenasymphony-pops.org/wp-content/uploads/2023/09/byron-featured.jpg
GEO:34.1442758;-118.0503157
X-APPLE-STRUCTURED-LOCATION;VALUE=URI;X-ADDRESS=LA County Arboretum 301 N. Baldwin Ave Los Angeles CA 91007 United States;X-APPLE-RADIUS=500;X-TITLE=301 N. Baldwin Ave:geo:-118.0503157,34.1442758
END:VEVENT
END:VCALENDAR