BEGIN:VCALENDAR
VERSION:2.0
PRODID:-//Pasadena Symphony &amp; Pops - ECPv6.15.19//NONSGML v1.0//EN
CALSCALE:GREGORIAN
METHOD:PUBLISH
X-ORIGINAL-URL:https://pasadenasymphony-pops.org
X-WR-CALDESC:Events for Pasadena Symphony &amp; Pops
REFRESH-INTERVAL;VALUE=DURATION:PT1H
X-Robots-Tag:noindex
X-PUBLISHED-TTL:PT1H
BEGIN:VTIMEZONE
TZID:UTC
BEGIN:STANDARD
TZOFFSETFROM:+0000
TZOFFSETTO:+0000
TZNAME:UTC
DTSTART:20210101T000000
END:STANDARD
END:VTIMEZONE
BEGIN:VEVENT
DTSTART;VALUE=DATE:20220910
DTEND;VALUE=DATE:20220911
DTSTAMP:20260425T170140
CREATED:20211130T180042Z
LAST-MODIFIED:20220909T195523Z
UID:20787-1662768000-1662854399@pasadenasymphony-pops.org
SUMMARY:Broadway on Film
DESCRIPTION:[vc_row][vc_column][vc_row_inner][vc_column_inner width=”1/2″][vc_single_image image=”21842″ img_size=”full”][/vc_column_inner][vc_column_inner width=”1/2″]\n	 			\n					\n						\n						LA County Arboretum\n						\n					\n				\n			[vc_empty_space height=”7px”][vc_column_text]September 10\, 2022\nGates open at 6:30pm for picnicking*\nConcert begins at 8:00pm* \n*Time Change[/vc_column_text][vc_column_text][/vc_column_text][vc_empty_space height=”30px”]BUY TICKETS[vc_empty_space height=”15px”][vc_column_text][/vc_column_text][/vc_column_inner][/vc_row_inner][vc_empty_space height=”15px”][vc_column_text]Hear the best of hit shows that traveled from Broadway to Hollywood from Funny Girl\, Showboat and The Music Man to Chicago and The Wiz\, with “Home\,” “Don’t Rain on My Parade\,” “Old Devil Moon” and much more. \n*All concert dates subject to pending health department guidelines. \n\n\n[/vc_column_text][vc_empty_space height=”15px”]Artists[vc_empty_space height=”15px”]Michael FeinsteinConductor LaChanzeGuest Artist Tony YazbeckGuest Artist Lillias WhiteGuest Artist Video[vc_row_inner][vc_column_inner][vc_video link=”https://vimeo.com/670342179″][vc_empty_space height=”30px”][vc_column_text][/vc_column_text][vc_column_text]Tony Yazbeck performs Gershwin’s “Slap that Bass” with the Pasadena POPS from July 13\, 2019.[/vc_column_text][/vc_column_inner][/vc_row_inner]Sponsors[vc_row_inner][vc_column_inner width=”2/3″][/vc_column_inner][vc_column_inner width=”1/3″][vc_single_image image=”18616″ img_size=”full”][/vc_column_inner][/vc_row_inner][vc_empty_space height=”30px”][/vc_column][/vc_row]
URL:https://pasadenasymphony-pops.org/concert/broadway-on-film/
LOCATION:LA County Arboretum\, 301 N. Baldwin Ave\, Los Angeles\, CA\, 91007\, United States
CATEGORIES:2022 Season,POPS Summer Series
ATTACH;FMTTYPE=image/jpeg:https://pasadenasymphony-pops.org/wp-content/uploads/2021/11/LaChanze_featured-2022.jpg
GEO:34.1442758;-118.0503157
X-APPLE-STRUCTURED-LOCATION;VALUE=URI;X-ADDRESS=LA County Arboretum 301 N. Baldwin Ave Los Angeles CA 91007 United States;X-APPLE-RADIUS=500;X-TITLE=301 N. Baldwin Ave:geo:-118.0503157,34.1442758
END:VEVENT
BEGIN:VEVENT
DTSTART;VALUE=DATE:20220827
DTEND;VALUE=DATE:20220828
DTSTAMP:20260425T170140
CREATED:20211130T180042Z
LAST-MODIFIED:20220616T171335Z
UID:20780-1661558400-1661644799@pasadenasymphony-pops.org
SUMMARY:Michael Cavanaugh Sings Billy Joel & Elton John
DESCRIPTION:[vc_row][vc_column][vc_row_inner][vc_column_inner width=”1/2″][vc_single_image image=”21839″ img_size=”full”][/vc_column_inner][vc_column_inner width=”1/2″]\n	 			\n					\n						\n						LA County Arboretum\n						\n					\n				\n			[vc_empty_space height=”7px”][vc_column_text] August 27\, 2022\nGates open at 5:30pm for picnicking\nConcert begins at 7:30pm[/vc_column_text][vc_column_text][/vc_column_text][vc_empty_space height=”30px”]BUY TICKETS[vc_empty_space height=”15px”][vc_column_text][/vc_column_text][/vc_column_inner][/vc_row_inner][vc_empty_space height=”15 px”][vc_column_text]Grammy and Tony-nominated Michael Cavanaugh returns with the greatest hits of Billy Joel and Elton John. Get in a “New York State of Mind” with “Piano Man\,” “Crocodile Rock\,” “Rocket Man” and more\, by “the new voice of the American Rock and Roll songbook\,” (Billboard) for a night of sing-along favorites with your Pasadena POPS! \n*All concert dates subject to pending health department guidelines.[/vc_column_text][vc_empty_space height=”15px”]Artists[vc_empty_space height=”15px”]Michael CavanaughGuest Artist Larry BlankConductor Video[vc_video link=”https://vimeo.com/653070793″][vc_empty_space height=”30px”][vc_column_text] Michael Cavanaugh performs Elton John’s “Honky Cat” with the Pasadena POPS\, August 24\, 2019. [/vc_column_text][vc_empty_space height=”30px”]Sponsors[vc_row_inner][vc_column_inner width=”2/3″][/vc_column_inner][vc_column_inner width=”1/3″][vc_single_image image=”22919″ img_size=”150×265″ alignment=”center” onclick=”custom_link” link=”https://www.arcadiaca.gov/”][/vc_column_inner][/vc_row_inner][vc_empty_space height=”30px”][/vc_column][/vc_row]
URL:https://pasadenasymphony-pops.org/concert/michael-cavanaugh-sings-billy-joel-and-elton-john/
LOCATION:LA County Arboretum\, 301 N. Baldwin Ave\, Los Angeles\, CA\, 91007\, United States
CATEGORIES:2022 Season,POPS Summer Series
ATTACH;FMTTYPE=image/jpeg:https://pasadenasymphony-pops.org/wp-content/uploads/2021/11/Michael-Cavanugh-feature-image.jpg
GEO:34.1442758;-118.0503157
X-APPLE-STRUCTURED-LOCATION;VALUE=URI;X-ADDRESS=LA County Arboretum 301 N. Baldwin Ave Los Angeles CA 91007 United States;X-APPLE-RADIUS=500;X-TITLE=301 N. Baldwin Ave:geo:-118.0503157,34.1442758
END:VEVENT
BEGIN:VEVENT
DTSTART;VALUE=DATE:20220813
DTEND;VALUE=DATE:20220814
DTSTAMP:20260425T170140
CREATED:20211130T180042Z
LAST-MODIFIED:20220809T231903Z
UID:20707-1660348800-1660435199@pasadenasymphony-pops.org
SUMMARY:American Icons: Judy Garland & Friends
DESCRIPTION:[vc_row][vc_column][vc_row_inner][vc_column_inner width=”1/2″][vc_single_image image=”20023″ img_size=”full”][/vc_column_inner][vc_column_inner width=”1/2″]\n	 			\n					\n						\n						LA County Arboretum\n						\n					\n				\n			[vc_empty_space height=”7px”][vc_column_text]August 13\, 2022\nGates open at 5:30pm for picnicking\nConcert begins at 7:30pm[/vc_column_text][vc_column_text][/vc_column_text][vc_empty_space height=”30px”]BUY TICKETS[vc_empty_space height=”15px”][vc_column_text][/vc_column_text][/vc_column_inner][/vc_row_inner][vc_empty_space height=”15px”][vc_column_text]Feinstein uncovers jewels from the songbooks of a generation of iconic women as we celebrate the centennials of Judy Garland\, Doris Day and Peggy Lee\, and give a nod to Liza Minnelli and Garland’s legacy. \nHear “Big Spender\,” “Come Rain or Come Shine\,” “Lady Be Good\,” “The Trolley Song\,” the original film arrangement for “Over The Rainbow” and much more. \n*All concert dates subject to pending health department guidelines. \n\n\n[/vc_column_text][vc_empty_space height=”15px”]Artists[vc_empty_space height=”15px”]Michael FeinsteinConductor Melissa ManchesterGuest Artist Nicole HenryGuest Artist Maddie BaillioGuest Artist Video[vc_row_inner][vc_column_inner][vc_video link=””][vc_column_text][/vc_column_text][vc_column_text][/vc_column_text][/vc_column_inner][/vc_row_inner]Sponsors[vc_row_inner][vc_column_inner width=”1/2″][/vc_column_inner][vc_column_inner width=”1/4″][vc_single_image image=”23296″ img_size=”large” onclick=”custom_link” link=”https://www.joseiturbifoundation.org/index.php”][/vc_column_inner][vc_column_inner width=”1/4″][vc_single_image image=”23298″ img_size=”full”][/vc_column_inner][/vc_row_inner][vc_empty_space height=”30px”][/vc_column][/vc_row]
URL:https://pasadenasymphony-pops.org/concert/american-icons-judy-garland-and-friends/
LOCATION:LA County Arboretum\, 301 N. Baldwin Ave\, Los Angeles\, CA\, 91007\, United States
CATEGORIES:2022 Season,POPS Summer Series
ATTACH;FMTTYPE=image/jpeg:https://pasadenasymphony-pops.org/wp-content/uploads/2021/11/Melissa-Manchester-feature-image.jpg
GEO:34.1442758;-118.0503157
X-APPLE-STRUCTURED-LOCATION;VALUE=URI;X-ADDRESS=LA County Arboretum 301 N. Baldwin Ave Los Angeles CA 91007 United States;X-APPLE-RADIUS=500;X-TITLE=301 N. Baldwin Ave:geo:-118.0503157,34.1442758
END:VEVENT
BEGIN:VEVENT
DTSTART;VALUE=DATE:20220723
DTEND;VALUE=DATE:20220724
DTSTAMP:20260425T170140
CREATED:20211130T180042Z
LAST-MODIFIED:20220707T203924Z
UID:20774-1658534400-1658620799@pasadenasymphony-pops.org
SUMMARY:Aretha: A Tribute
DESCRIPTION:[vc_row][vc_column][vc_row_inner][vc_column_inner width=”1/2″][vc_single_image image=”21488″ img_size=”full”][/vc_column_inner][vc_column_inner width=”1/2″]\n	 			\n					\n						\n						LA County Arboretum\n						\n					\n				\n			[vc_empty_space height=”7px”][vc_column_text] July 23\, 2022\nGates open at 5:30pm for picnicking\nConcert begins at 7:30pm[/vc_column_text][vc_column_text][/vc_column_text][vc_empty_space height=”30px”]BUY TICKETS[vc_empty_space height=”30px”][vc_column_text][/vc_column_text][/vc_column_inner][/vc_row_inner][vc_empty_space height=”15px”][vc_column_text]Broadway diva Capathia Jenkins pays tribute to the Queen of Soul with her “soaring voice – sweet\, smart\, sassy and full of soul” (Chicago Tribune). \nHear “Respect\,” “Chain of Fools\,” “I Say a Little Prayer\,” “Natural Woman\,” “Think\,” and more of your favorite hits. \n*All concert dates subject to pending health department guidelines. \n\n\n[/vc_column_text][vc_empty_space height=”15px”]Artists[vc_empty_space height=”15px”]Larry BlankConductor Capathia JenkinsGuest Artist Matthew JohnsonGuest Artist KJLH Radio Free VoicesChoir  Video[vc_row_inner][vc_column_inner][vc_video link=”https://www.youtube.com/watch?v=rT0-nIWA-gE”][vc_column_text][/vc_column_text][vc_column_text][/vc_column_text][vc_empty_space height=”30px”][vc_column_text]Capathia Jenkins sings “Phenomenal Woman: Song for CJ”.[/vc_column_text][/vc_column_inner][/vc_row_inner]Sponsors[vc_row_inner][vc_column_inner width=”2/3″][/vc_column_inner][vc_column_inner width=”1/3″][vc_single_image image=”18616″ img_size=”full”][/vc_column_inner][/vc_row_inner][vc_empty_space height=”30px”][/vc_column][/vc_row]
URL:https://pasadenasymphony-pops.org/concert/aretha/
LOCATION:LA County Arboretum\, 301 N. Baldwin Ave\, Los Angeles\, CA\, 91007\, United States
CATEGORIES:2022 Season,POPS Summer Series
ATTACH;FMTTYPE=image/jpeg:https://pasadenasymphony-pops.org/wp-content/uploads/2021/11/Capathia-featured-e1654547842340.jpg
GEO:34.1442758;-118.0503157
X-APPLE-STRUCTURED-LOCATION;VALUE=URI;X-ADDRESS=LA County Arboretum 301 N. Baldwin Ave Los Angeles CA 91007 United States;X-APPLE-RADIUS=500;X-TITLE=301 N. Baldwin Ave:geo:-118.0503157,34.1442758
END:VEVENT
BEGIN:VEVENT
DTSTART;VALUE=DATE:20220709
DTEND;VALUE=DATE:20220710
DTSTAMP:20260425T170140
CREATED:20211130T180042Z
LAST-MODIFIED:20220629T162402Z
UID:20762-1657324800-1657411199@pasadenasymphony-pops.org
SUMMARY:Michael Feinstein Sings Gershwin
DESCRIPTION:[vc_row][vc_column][vc_row_inner][vc_column_inner width=”1/2″][vc_single_image image=”19510″ img_size=”full”][/vc_column_inner][vc_column_inner width=”1/2″]\n	 			\n					\n						\n						LA County Arboretum\n						\n					\n				\n			[vc_empty_space height=”7px”][vc_column_text]July 9\, 2022\nGates open at 5:30pm for picnicking\nConcert begins at 7:30pm[/vc_column_text][vc_column_text][/vc_column_text][vc_empty_space height=”30px”]BUY TICKETS[vc_empty_space height=”15px”][vc_column_text][/vc_column_text][/vc_column_inner][/vc_row_inner][vc_empty_space height=”15px”][vc_column_text]Michael puts down the baton for one night only to sing a full concert devoted to Gershwin\, delivering treasures from his personal archives with “Someone to Watch Over Me\,” “I Got Rhythm\,” “Embraceable You” and much more. \n*All concert dates subject to pending health department guidelines. \n\n[/vc_column_text][vc_empty_space height=”15px”]Artists[vc_empty_space height=”15px”]Michael FeinsteinSoloist Larry BlankConductor Video[vc_video link=”https://vimeo.com/653872715″][vc_empty_space height=”30px”][vc_column_text] Principal Pops Conductor\, Michael Feinstein sings Gershwin’s “Strike up the Band” with the Pasadena POPS\, August 19\, 2017. [/vc_column_text][vc_empty_space height=”30px”]Sponsors[vc_row_inner][vc_column_inner width=”1/2″][/vc_column_inner][vc_column_inner width=”1/4″][vc_single_image image=”22778″ img_size=”full”][/vc_column_inner][vc_column_inner width=”1/4″][vc_single_image image=”19088″ img_size=”full”][/vc_column_inner][/vc_row_inner][vc_empty_space height=”30px”][vc_video link=”https://vimeo.com/725359069″][/vc_column][/vc_row]
URL:https://pasadenasymphony-pops.org/concert/michael-feinstein-sings-gershwin/
LOCATION:LA County Arboretum\, 301 N. Baldwin Ave\, Los Angeles\, CA\, 91007\, United States
CATEGORIES:2022 Season,POPS Summer Series
ATTACH;FMTTYPE=image/jpeg:https://pasadenasymphony-pops.org/wp-content/uploads/2021/11/Michael-Feinstein-feature-image.jpg
GEO:34.1442758;-118.0503157
X-APPLE-STRUCTURED-LOCATION;VALUE=URI;X-ADDRESS=LA County Arboretum 301 N. Baldwin Ave Los Angeles CA 91007 United States;X-APPLE-RADIUS=500;X-TITLE=301 N. Baldwin Ave:geo:-118.0503157,34.1442758
END:VEVENT
BEGIN:VEVENT
DTSTART;VALUE=DATE:20220625
DTEND;VALUE=DATE:20220626
DTSTAMP:20260425T170140
CREATED:20211130T180042Z
LAST-MODIFIED:20220620T195116Z
UID:15731-1656115200-1656201599@pasadenasymphony-pops.org
SUMMARY:Sway with Me: Latin Rhythm & Swing!
DESCRIPTION:[vc_row][vc_column][vc_row_inner][vc_column_inner width=”1/2″][vc_single_image image=”15726″ img_size=”full”][/vc_column_inner][vc_column_inner width=”1/2″]\n	 			\n					\n						\n						LA County Arboretum\n						\n					\n				\n			[vc_empty_space height=”7px”][vc_column_text]June 25\, 2022\nGates open at 5:30pm for picnicking\nConcert begins at 7:30pm[/vc_column_text][vc_column_text][/vc_column_text][vc_empty_space height=”15px”]BUY TICKETS[vc_empty_space height=”15px”][vc_column_text][/vc_column_text][/vc_column_inner][/vc_row_inner][vc_empty_space height=”15px”][vc_column_text]It’s Mad Men meets I Love Lucy! Sway and swing under the stars with songs like Brazil\, Sway\, I Love Lucy and Girl from Ipanema made famous by Carmen Miranda\, Desi Arnaz\, Pink Martini and more. \n*All concert dates subject to pending health department guidelines. \n\n\n[/vc_column_text][vc_empty_space height=”15px”]Artists[vc_empty_space height=”15px”]Michael FeinsteinConductor Mauricio MartinezSoloist Margo ReySoloist Video[vc_row_inner][vc_column_inner width=”1/2″][vc_video link=”https://youtu.be/tO2ybwR-Rwo”][vc_column_text]Margo Rey sings “Angel Eyes” live with Oscar Hernanadez & Spanish Harlem Orchestra[/vc_column_text][/vc_column_inner][vc_column_inner width=”1/2″][vc_video link=”https://www.youtube.com/watch?v=uPlZw41_-0A”][vc_column_text]Mauricio Martinez – “Don’t Wanna Lose You” from On Your Feet! Tour[/vc_column_text][/vc_column_inner][/vc_row_inner]Sponsors[vc_row_inner][vc_column_inner width=”2/3″][/vc_column_inner][vc_column_inner width=”1/3″][vc_single_image image=”17825″ img_size=”full”][/vc_column_inner][/vc_row_inner][vc_empty_space height=”30px”][/vc_column][/vc_row]
URL:https://pasadenasymphony-pops.org/concert/sway-with-me-latin-rhythm-swing/
LOCATION:LA County Arboretum\, 301 N. Baldwin Ave\, Los Angeles\, CA\, 91007\, United States
CATEGORIES:2022 Season,POPS Summer Series
ATTACH;FMTTYPE=image/jpeg:https://pasadenasymphony-pops.org/wp-content/uploads/2019/02/Margo-Rey_featured.jpg
GEO:34.1442758;-118.0503157
X-APPLE-STRUCTURED-LOCATION;VALUE=URI;X-ADDRESS=LA County Arboretum 301 N. Baldwin Ave Los Angeles CA 91007 United States;X-APPLE-RADIUS=500;X-TITLE=301 N. Baldwin Ave:geo:-118.0503157,34.1442758
END:VEVENT
END:VCALENDAR