BEGIN:VCALENDAR
VERSION:2.0
PRODID:-//Pasadena Symphony &amp; Pops - ECPv6.15.19//NONSGML v1.0//EN
CALSCALE:GREGORIAN
METHOD:PUBLISH
X-WR-CALNAME:Pasadena Symphony &amp; Pops
X-ORIGINAL-URL:https://pasadenasymphony-pops.org
X-WR-CALDESC:Events for Pasadena Symphony &amp; Pops
REFRESH-INTERVAL;VALUE=DURATION:PT1H
X-Robots-Tag:noindex
X-PUBLISHED-TTL:PT1H
BEGIN:VTIMEZONE
TZID:UTC
BEGIN:STANDARD
TZOFFSETFROM:+0000
TZOFFSETTO:+0000
TZNAME:UTC
DTSTART:20200101T000000
END:STANDARD
END:VTIMEZONE
BEGIN:VEVENT
DTSTART;VALUE=DATE:20210828
DTEND;VALUE=DATE:20210829
DTSTAMP:20260421T145836
CREATED:20210406T175442Z
LAST-MODIFIED:20210819T205930Z
UID:10956-1630108800-1630195199@pasadenasymphony-pops.org
SUMMARY:Classical Mystery Tour: A Tribute to The Beatles
DESCRIPTION:[vc_row][vc_column][vc_row_inner][vc_column_inner width=”1/2″][vc_single_image image=”11916″ img_size=”full”][/vc_column_inner][vc_column_inner width=”1/2″]\n	 			\n					\n						\n						LA County Arboretum\n						\n					\n				\n			[vc_empty_space height=”7px”][vc_column_text]August 28\, 2021\nGates open at 5:30pm for picnicking.\nConcert begins at 7:30pm.[/vc_column_text][vc_column_text][/vc_column_text]Buy Tickets[vc_empty_space height=”15px”][/vc_column_inner][/vc_row_inner][vc_empty_space height=”15px”][vc_column_text]Back by popular demand\, Classical Mystery Tour brings the timeless music of the Fab Four to life with a fresh set list of favorites from the early years to Sgt. Pepper’s through their solo careers. Hear “Yesterday\,” “Penny Lane\,” “A Day in the Life\,” “Imagine” and many more\, all performed with a live symphony orchestra![/vc_column_text][vc_empty_space height=”15px”]ArtistsClassical Mystery TourSpecial Guests Larry BlankConductor Video[vc_video link=”https://youtu.be/7Ku7bq5BYDc”]Sponsors[vc_row_inner][vc_column_inner width=”2/3″][/vc_column_inner][vc_column_inner width=”1/3″][vc_single_image image=”18616″ img_size=”full” onclick=”custom_link” link=”https://ftsius.com”][/vc_column_inner][/vc_row_inner][vc_empty_space height=”30px”][/vc_column][/vc_row]
URL:https://pasadenasymphony-pops.org/concert/classical-mystery-tour-music-of-the-beatles/
LOCATION:LA County Arboretum\, 301 N. Baldwin Ave\, Los Angeles\, CA\, 91007\, United States
CATEGORIES:2021 Season,POPS Summer Series
ATTACH;FMTTYPE=image/jpeg:https://pasadenasymphony-pops.org/wp-content/uploads/2017/12/Mystery-Tour.jpg
GEO:34.1442758;-118.0503157
X-APPLE-STRUCTURED-LOCATION;VALUE=URI;X-ADDRESS=LA County Arboretum 301 N. Baldwin Ave Los Angeles CA 91007 United States;X-APPLE-RADIUS=500;X-TITLE=301 N. Baldwin Ave:geo:-118.0503157,34.1442758
END:VEVENT
END:VCALENDAR