BEGIN:VCALENDAR
VERSION:2.0
PRODID:-//Pasadena Symphony &amp; Pops - ECPv6.15.19//NONSGML v1.0//EN
CALSCALE:GREGORIAN
METHOD:PUBLISH
X-ORIGINAL-URL:https://pasadenasymphony-pops.org
X-WR-CALDESC:Events for Pasadena Symphony &amp; Pops
REFRESH-INTERVAL;VALUE=DURATION:PT1H
X-Robots-Tag:noindex
X-PUBLISHED-TTL:PT1H
BEGIN:VTIMEZONE
TZID:UTC
BEGIN:STANDARD
TZOFFSETFROM:+0000
TZOFFSETTO:+0000
TZNAME:UTC
DTSTART:20200101T000000
END:STANDARD
END:VTIMEZONE
BEGIN:VEVENT
DTSTART;VALUE=DATE:20210814
DTEND;VALUE=DATE:20210815
DTSTAMP:20260421T170705
CREATED:20190214T060042Z
LAST-MODIFIED:20210728T174152Z
UID:15750-1628899200-1628985599@pasadenasymphony-pops.org
SUMMARY:Michael Feinstein Sings Sinatra's Songbook
DESCRIPTION:[vc_row][vc_column][vc_row_inner][vc_column_inner width=”1/2″][vc_single_image image=”15753″ img_size=”full”][/vc_column_inner][vc_column_inner width=”1/2″]\n	 			\n					\n						\n						LA County Arboretum\n						\n					\n				\n			[vc_empty_space height=”7px”][vc_column_text]August 14\, 2021\nGates open at 5:30pm for picnicking\nConcert begins at 7:30pm[/vc_column_text][vc_empty_space height=”15px”][vc_column_text][/vc_column_text]Buy Tickets[/vc_column_inner][/vc_row_inner][vc_empty_space height=”30px”][vc_column_text]Michael Feinstein brings you Ol’ Blue Eyes’ biggest hits and maybe a few you’ve never heard before\, with “Luck be a Lady\, “Fly Me to the Moon\,” “Lady is a Tramp\,” “New York\, New York” and many more\, as only the Ambassador of the Great American Songbook can deliver. \n*All concert dates subject to pending health department guidelines.[/vc_column_text][vc_empty_space height=”15px”]Artists[vc_empty_space height=”30px”]Michael FeinsteinSoloist Larry BlankConductor Video[vc_row_inner][vc_column_inner width=”1/2″][/vc_column_inner][/vc_row_inner]Sponsors[vc_row_inner][vc_column_inner width=”2/3″][/vc_column_inner][vc_column_inner width=”1/3″][vc_single_image image=”19092″ img_size=”full”][/vc_column_inner][/vc_row_inner][vc_empty_space height=”30px”][/vc_column][/vc_row]
URL:https://pasadenasymphony-pops.org/concert/michael-feinstein-sings-sinatra/
LOCATION:LA County Arboretum\, 301 N. Baldwin Ave\, Los Angeles\, CA\, 91007\, United States
CATEGORIES:2021 Season,POPS Summer Series
ATTACH;FMTTYPE=image/jpeg:https://pasadenasymphony-pops.org/wp-content/uploads/2019/02/Michael-Feinstein-sinatra_featured.jpg
GEO:34.1442758;-118.0503157
X-APPLE-STRUCTURED-LOCATION;VALUE=URI;X-ADDRESS=LA County Arboretum 301 N. Baldwin Ave Los Angeles CA 91007 United States;X-APPLE-RADIUS=500;X-TITLE=301 N. Baldwin Ave:geo:-118.0503157,34.1442758
END:VEVENT
END:VCALENDAR