BEGIN:VCALENDAR
VERSION:2.0
PRODID:-//Pasadena Symphony &amp; Pops - ECPv6.15.19//NONSGML v1.0//EN
CALSCALE:GREGORIAN
METHOD:PUBLISH
X-WR-CALNAME:Pasadena Symphony &amp; Pops
X-ORIGINAL-URL:https://pasadenasymphony-pops.org
X-WR-CALDESC:Events for Pasadena Symphony &amp; Pops
REFRESH-INTERVAL;VALUE=DURATION:PT1H
X-Robots-Tag:noindex
X-PUBLISHED-TTL:PT1H
BEGIN:VTIMEZONE
TZID:UTC
BEGIN:STANDARD
TZOFFSETFROM:+0000
TZOFFSETTO:+0000
TZNAME:UTC
DTSTART:20200101T000000
END:STANDARD
END:VTIMEZONE
BEGIN:VEVENT
DTSTART;VALUE=DATE:20210710
DTEND;VALUE=DATE:20210711
DTSTAMP:20260421T080956
CREATED:20190214T060042Z
LAST-MODIFIED:20210710T181339Z
UID:15700-1625875200-1625961599@pasadenasymphony-pops.org
SUMMARY:Road to Motown
DESCRIPTION:[vc_row][vc_column][vc_row_inner][vc_column_inner width=”1/3″][vc_single_image image=”18448″ img_size=”full”][/vc_column_inner][vc_column_inner width=”2/3″]\n	 			\n					\n						\n						LA County Arboretum\n						\n					\n				\n			[vc_empty_space height=”7px”][vc_column_text]July 10\, 2021 \nGates open at 5:30pm for picnicking\nConcert begins at 7:30pm \n  \nMichael Feinstein\, conductor\nMarilyn McCoo and Billy Davis Jr.\, soloists\nThelma Houston\, soloist\nSpectrum\,special guests[/vc_column_text][vc_empty_space height=”15px”][vc_column_text][/vc_column_text][vc_empty_space height=”15px”][vc_empty_space][/vc_column_inner][/vc_row_inner][vc_column_text]Tickets for Road to Motown are SOLD OUT.  \nPlease do not show up to the venue without tickets.[/vc_column_text][vc_empty_space height=”15px”]ArtistsMichael FeinsteinConductor Marilyn McCoo & Billy Davis Jr.Soloists Thelma HoustonSoloist SpectrumSpecial Guests Video[vc_video link=”https://www.youtube.com/watch?v=it31dCluAss” el_width=”80″][vc_empty_space height=”15px”][vc_column_text]Marilyn McCoo and Billy Davis Jr. perform “Aquarius”[/vc_column_text]Sponsors[vc_row_inner][vc_column_inner width=”2/3″][/vc_column_inner][vc_column_inner width=”1/3″][vc_single_image image=”18616″ img_size=”full” onclick=”custom_link” link=”https://ftsius.com”][vc_empty_space height=”12px”][vc_column_text] \nCongratulations to Dr. Alan Karme for 55 years of service to Pasadena!\n[/vc_column_text][/vc_column_inner][/vc_row_inner][vc_empty_space height=”30px”][/vc_column][/vc_row]
URL:https://pasadenasymphony-pops.org/concert/road-to-motown/
LOCATION:LA County Arboretum\, 301 N. Baldwin Ave\, Los Angeles\, CA\, 91007\, United States
CATEGORIES:2021 Season,POPS Summer Series
ATTACH;FMTTYPE=image/jpeg:https://pasadenasymphony-pops.org/wp-content/uploads/2019/02/MarilynMcCooBillyDavisJr_featured_soldout.jpg
GEO:34.1442758;-118.0503157
X-APPLE-STRUCTURED-LOCATION;VALUE=URI;X-ADDRESS=LA County Arboretum 301 N. Baldwin Ave Los Angeles CA 91007 United States;X-APPLE-RADIUS=500;X-TITLE=301 N. Baldwin Ave:geo:-118.0503157,34.1442758
END:VEVENT
END:VCALENDAR