BEGIN:VCALENDAR
VERSION:2.0
PRODID:-//Pasadena Symphony &amp; Pops - ECPv6.15.19//NONSGML v1.0//EN
CALSCALE:GREGORIAN
METHOD:PUBLISH
X-WR-CALNAME:Pasadena Symphony &amp; Pops
X-ORIGINAL-URL:https://pasadenasymphony-pops.org
X-WR-CALDESC:Events for Pasadena Symphony &amp; Pops
REFRESH-INTERVAL;VALUE=DURATION:PT1H
X-Robots-Tag:noindex
X-PUBLISHED-TTL:PT1H
BEGIN:VTIMEZONE
TZID:UTC
BEGIN:STANDARD
TZOFFSETFROM:+0000
TZOFFSETTO:+0000
TZNAME:UTC
DTSTART:20200101T000000
END:STANDARD
END:VTIMEZONE
BEGIN:VEVENT
DTSTART;VALUE=DATE:20210501
DTEND;VALUE=DATE:20210502
DTSTAMP:20260419T225604
CREATED:20200126T181642Z
LAST-MODIFIED:20210729T191028Z
UID:16069-1619827200-1619913599@pasadenasymphony-pops.org
SUMMARY:Prokofiev Piano Concerto No. 3
DESCRIPTION:[vc_row][vc_column][vc_row_inner][vc_column_inner width=”1/3″][vc_single_image image=”16072″ img_size=”full”][/vc_column_inner][vc_column_inner width=”2/3″][vc_single_image image=”18052″ img_size=”medium”][vc_empty_space height=”15px”][vc_column_text]May 1\, 2021[/vc_column_text][vc_column_text]Debussy     Danses sacrée et profane\nWagner       Prelude to Tristan & Isolde\nRavel           Introduction & Allegro\nProkofiev    Piano Concerto No. 3[/vc_column_text][vc_empty_space height=”15px”][vc_column_text]Concert premieres here at 4:00pm and is available to stream free to the general public for 48 hours. For unlimited on-demand access to all five spring concerts and other perks\, become a member:[/vc_column_text][vc_empty_space height=”10px”]BECOME A MEMBER[/vc_column_inner][/vc_row_inner][vc_empty_space height=”50px”]DONATE[vc_empty_space height=”30px”]ArtistsHsin-I HuangPiano [vc_empty_space height=”30px”]Sponsors[vc_row_inner][vc_column_inner width=”3/4″][/vc_column_inner][vc_column_inner width=”1/4″][vc_single_image image=”15343″ img_size=”full” alignment=”center”][/vc_column_inner][/vc_row_inner][vc_empty_space height=”30px”][/vc_column][/vc_row][vc_row][vc_column][/vc_column][/vc_row]
URL:https://pasadenasymphony-pops.org/concert/prokofiev-piano-concerto/
LOCATION:CA\, United States
CATEGORIES:2020/2021 Season,Pasadena Presents,Spring 2021,Symphony Classics
END:VEVENT
END:VCALENDAR