BEGIN:VCALENDAR
VERSION:2.0
PRODID:-//Pasadena Symphony &amp; Pops - ECPv6.15.19//NONSGML v1.0//EN
CALSCALE:GREGORIAN
METHOD:PUBLISH
X-ORIGINAL-URL:https://pasadenasymphony-pops.org
X-WR-CALDESC:Events for Pasadena Symphony &amp; Pops
REFRESH-INTERVAL;VALUE=DURATION:PT1H
X-Robots-Tag:noindex
X-PUBLISHED-TTL:PT1H
BEGIN:VTIMEZONE
TZID:UTC
BEGIN:STANDARD
TZOFFSETFROM:+0000
TZOFFSETTO:+0000
TZNAME:UTC
DTSTART:20200101T000000
END:STANDARD
END:VTIMEZONE
BEGIN:VEVENT
DTSTART;VALUE=DATE:20210313
DTEND;VALUE=DATE:20210314
DTSTAMP:20260419T184959
CREATED:20200804T160042Z
LAST-MODIFIED:20210729T190648Z
UID:18363-1615593600-1615679999@pasadenasymphony-pops.org
SUMMARY:Bach | Puccini | Mozart
DESCRIPTION:[vc_row][vc_column][vc_column_text] \n[/vc_column_text][/vc_column][/vc_row][vc_row][vc_column][vc_row_inner][vc_column_inner width=”3/4″][vc_single_image image=”17030″ img_size=”200×34″][vc_empty_space height=”15px”][vc_column_text] \nMarch 13\, 2021 \n[/vc_column_text][vc_empty_space height=”10px”][vc_column_text] \nMozart   Divertimento in D majorPuccini  ChrysanthemumsBach      Sonata for Violin Solo No. 2Milhaud Sonatine for Violin and Cello \nConcert premieres at 4:00pm and is available to stream on its broadcast date free for 48 hours. \n[/vc_column_text][vc_empty_space height=”10px”]REGISTER FOR FREE[vc_empty_space height=”30px”][vc_column_text] \nFor unlimited on-demand access and other perks\, become a season member. \n[/vc_column_text][vc_empty_space height=”10px”]BECOME A MEMBER[/vc_column_inner][vc_column_inner width=”1/4″][vc_single_image image=”18273″ img_size=”full” onclick=”custom_link” link=”https://issuu.com/pasadenasymphonyandpops/docs/paspresents_program_spring_2021″][vc_empty_space height=”20px”][vc_column_text] \nView Program Book \n[/vc_column_text][/vc_column_inner][/vc_row_inner][vc_empty_space height=”30px”]ArtistsSara ParkinsViolin Amy HershbergerViolin Qiang WangViola Judith HendersonCello Aroussiak BaltaianViolin Vivian WolfViolin Video[vc_video link=”https://www.youtube.com/watch?v=Jsa6QZTkZOo”][vc_empty_space height=”30px”]Sponsors[vc_row_inner][vc_column_inner width=”2/3″][/vc_column_inner][vc_column_inner width=”1/3″][/vc_column_inner][/vc_row_inner][/vc_column][/vc_row][vc_row][vc_column][/vc_column][/vc_row][vc_row][vc_column][vc_column_text] \n \n \n \n[/vc_column_text][/vc_column][/vc_row]
URL:https://pasadenasymphony-pops.org/concert/bach-puccini-mozart/
LOCATION:CA\, United States
CATEGORIES:Pasadena Presents,Spring 2021
END:VEVENT
END:VCALENDAR